BEGIN:VCALENDAR
PRODID:NingEventWidget-v1
VERSION:2.0
METHOD:PUBLISH
BEGIN:VEVENT
UID:1171189:Event:108502
DTSTAMP:20260422T064820Z
SUMMARY:HaHa Mama -  Mother’s Day Comedy
DESCRIPTION:Bonnie McFarlane (NBC, CBS, HBO, ETC) hosts this hilariou
 s Women in Comedy Festival line-up. Bring your mom - it’s your turn 
 to make her laugh!\n\nFor more information visit http://neighborsforne
 ighbors.org/events/haha-mama-mother-s-day-comedy
DTSTART:20140511T170000Z
DTEND:20140511T190000Z
CATEGORIES:stand-up, comedy
LOCATION:Laugh Boston
WEBSITE:http://www.womenincomedyfestival.com/shows/2014/laughbostonsun
 day1pm
URL:http://www.womenincomedyfestival.com/shows/2014/laughbostonsunday1
 pm
CONTACT:
ORGANIZER;CN="Robin Maxfield":http://neighborsforneighbors.org/profile
 /RobinMaxfield800
ATTACH;FMTTYPE="image/jpeg":http://storage.ning.com/topology/rest/1.0/
 file/get/2245142484?profile=original
ATTENDEE;ROLE=REQ-PARTICIPANT;PARTSTAT=ACCEPTED;RSVP=TRUE;CN="Robin Ma
 xfield":http://neighborsforneighbors.org/profile/RobinMaxfield800
END:VEVENT
END:VCALENDAR
