BEGIN:VCALENDAR
PRODID:NingEventWidget-v1
VERSION:2.0
METHOD:PUBLISH
BEGIN:VEVENT
UID:1171189:Event:34545
DTSTAMP:20260421T195958Z
SUMMARY:Haitian Relief Benefit Concerts
DESCRIPTION:Haitian Relief Concert this Sunday at Midway in JP. All lo
 cal bands from12pm-9pm and a badass DJ from 10pm-2am. All proceeds to 
 YELE. So if you are bored after the Superbowl, or just don’t want to
  bother, please come out and support.\n\nBands include : Dr Bin Laden,
  Confidon, Patrick Yerby, Seven Shades of Grey, Cosmic Moxa, NADZ, Cul
 prit Policy, Wicked Hangin' Chads, Liquid Confidence, The Dead Beats, 
 DJ Leah...\n\nCOME AND SUPPORT!\n\n$5 minimum donation, all ages until
  10pm, 21+ after 10pm\n\nFor more information visit http://neighborsfo
 rneighbors.org/events/haitian-relief-benefit
DTSTART:20100207T170000Z
DTEND:20100208T070000Z
CATEGORIES:fundraiser
LOCATION:Midway Cafe
WEBSITE:http://www.midwaycafe.com/
URL:http://www.midwaycafe.com/
CONTACT:512.699.6141
ORGANIZER;CN=Tiffany:http://neighborsforneighbors.org/profile/Tiffany
ATTACH;FMTTYPE="image/jpeg":http://storage.ning.com/topology/rest/1.0/
 file/get/2245130455?profile=original
ATTENDEE;ROLE=REQ-PARTICIPANT;PARTSTAT=ACCEPTED;RSVP=TRUE;CN=Tiffany:h
 ttp://neighborsforneighbors.org/profile/Tiffany
END:VEVENT
END:VCALENDAR
