BEGIN:VCALENDAR
PRODID:NingEventWidget-v1
VERSION:2.0
METHOD:PUBLISH
BEGIN:VEVENT
UID:1171189:Event:85086
DTSTAMP:20260421T232553Z
SUMMARY:Hallelujah the Hills, Big Digits, Hilly Eye
DESCRIPTION:Hallelujah The Hills - Misra Recording artist, professiona
 l safe crackers, placing the finishing touches on their 3rd full lengt
 h album, good to go, happy to be here, love, mom.  Big Digits -Watch t
 his video and tell me you're not coming to this show. http://vimeo.com
 /26445046   Hilly Eye - Hilly Eye is a duo featuring guitarist/vocalis
 t Amy Klein (violinist/guitarist of Titus Andronicus) and drummer/voca
 list Catherine Tung. Klein has been quoted as saying Hilly Eye sounds 
 like \"Sleater Kinney meets Lightning Bolt.\" Sounds nice and right to
  me.\n\nFor more information visit http://neighborsforneighbors.org/ev
 ents/hallelujah-the-hills-big-digits-hilly-eye
DTSTART:20111119T020000Z
DTEND:20111119T060000Z
CATEGORIES:concert, live, music, indie, rock
LOCATION:Bella Luna Restaurant & Milky Way Lounge
WEBSITE:http://www.milkywayjp.com
URL:http://www.milkywayjp.com
CONTACT:617-524-3740
ORGANIZER:Justin Emile
ATTACH;FMTTYPE="image/jpeg":http://storage.ning.com/topology/rest/1.0/
 file/get/2245136094?profile=original
ATTENDEE;ROLE=REQ-PARTICIPANT;PARTSTAT=ACCEPTED;RSVP=TRUE;CN="Carol Do
 wns":http://neighborsforneighbors.org/profile/CarolDowns
END:VEVENT
END:VCALENDAR
