BEGIN:VCALENDAR
PRODID:NingEventWidget-v1
VERSION:2.0
METHOD:PUBLISH
BEGIN:VEVENT
UID:1171189:Event:83365
DTSTAMP:20260422T025723Z
SUMMARY:Halloween Nation: Behind the Scenes of America's Fright Night 
 with Lesley Bannatyne
DESCRIPTION:The Friends of the Charlestown Branch Library presents Hal
 loween Nation: Behind the Scenes of America's Fright Night with Lesley
  Bannatyne. Free and open to everyone, with a book signing and recepti
 on following. Halloween is the first book to delve into the popular c
 ulture of 21st century Halloween through the eyes and words of its cel
 ebrants. An illustrated collection of interviews and essays, Halloween
  Nation looks at what makes Halloween one of America's most creative a
 nd wildly popular contemporary holidays.Lesley Bannatyne is an author 
 who writes on folklore and popular culture. She is also a freelance jo
 urnalist, covering stories ranging from local druids to relief aid in 
 Bolivia. One of the nation's foremost authorities on Halloween, Bannat
 yne has shared her knowledge on television specials for Nickelodeon an
 d the History Channel (\"The Haunted History of Halloween\"), with Tim
 e Magazine, National Geographic, and Slate, and has given talks at ven
 ues as diverse as the 2000 Halloween Convergence in New Orleans and th
 e St. Louis Art Museum. She contributed the Halloween article to World
  Book Encyclopedia. Recently, she, with many brave compatriots, held t
 he Guinness World Record for \"Largest Halloween Gathering,\" from Oct
 ober 2007-09. http://www.people.fas.harvard.edu/~bannatyn/  Nation\n\n
 For more information visit http://neighborsforneighbors.org/events/hal
 loween-nation-behind-the-scenes-of-america-s-fright-night-with
DTSTART:20111013T233000Z
DTEND:20111014T013000Z
CATEGORIES:holiday, gathering, halloween, book, reading
LOCATION:Charlestown Branch Library
WEBSITE:http://www.bpl.org/branches/charlestown.htm
URL:http://www.bpl.org/branches/charlestown.htm
CONTACT:617-242-1248
ORGANIZER:Mary Curtin (of the Friends of the Charlestown Branch Librar
 y)
ATTACH;FMTTYPE="image/jpeg":http://storage.ning.com/topology/rest/1.0/
 file/get/2245139761?profile=original
ATTENDEE;ROLE=REQ-PARTICIPANT;PARTSTAT=ACCEPTED;RSVP=TRUE;CN="Mary Cur
 tin":http://neighborsforneighbors.org/profile/MaryCurtin
END:VEVENT
END:VCALENDAR
