BEGIN:VCALENDAR
PRODID:NingEventWidget-v1
VERSION:2.0
METHOD:PUBLISH
BEGIN:VEVENT
UID:1171189:Event:83981
DTSTAMP:20260421T154956Z
SUMMARY:Halloween Zumba at Spontaneous Celebrations!
DESCRIPTION:ZUMBA® CLASSES\nDitch the workout, Join the party!!\n \n
 Are you ready to party yourself into shape? Zumba® is an exhilarating
 , effective, easy-to-follow, Latin-inspired, calorie-burning dance fit
 ness-party™ that’s moving millions of people toward joy and health
 . Zumba classes feature exotic rhythms set to high-energy Latin and in
 ternational beats, such as salsa, merengue, reggaeton, cumbia, bachata
 , hip hop, West African, and Arabian. Before you know it, you’re get
 ting fit and your energy levels are soaring! All levels welcome; no da
 nce experience necessary.\n \n \nSpontaneous Celebrations\n45 Danfor
 th Street, Jamaica Plain, MA 02130\n(Near Stonybrook T stop on Orange 
 Line, parking available)\n \nMONDAYS 6-7pm with Joya\nContact: joyafi
 tness@gmail.com\n \nWEDNESDAYS 6-7pm with Nancy\nContact: getfitwithn
 ancy@gmail.com\n \n***Oct 31 class--dress up in Halloween costume onl
 y if you feel like it. We will boogie on down like usual.***\n \n***O
 nly $10 drop-in for each class… or $80 for a 10-class card!*** (sepa
 rate cards for Mon and Weds night)\n \n***Bring a water bottle and we
 ar comfortable exercise clothing and sneakers.***\n\nFor more informat
 ion visit http://neighborsforneighbors.org/events/halloween-zumba-at-s
 pontaneous-celebrations
DTSTART:20111031T220000Z
DTEND:20111031T230000Z
CATEGORIES:dance, class, zumba, exercise, fitness, jamaica, plain
LOCATION:Spontaneous Celebrations
WEBSITE:http://www.spontaneouscelebrations.org
URL:http://www.spontaneouscelebrations.org
CONTACT:
ORGANIZER;CN="Joya Lonsdale":http://neighborsforneighbors.org/profile/
 JoyaLonsdale
ATTACH;FMTTYPE="image/jpeg":http://storage.ning.com/topology/rest/1.0/
 file/get/2245131635?profile=original
ATTENDEE;ROLE=REQ-PARTICIPANT;PARTSTAT=ACCEPTED;RSVP=TRUE;CN="Lisa Vaa
 s (Moderator)":http://neighborsforneighbors.org/profile/LisaVaas
ATTENDEE;ROLE=REQ-PARTICIPANT;PARTSTAT=ACCEPTED;RSVP=TRUE;CN="Joya Lon
 sdale":http://neighborsforneighbors.org/profile/JoyaLonsdale
END:VEVENT
END:VCALENDAR
