BEGIN:VCALENDAR
PRODID:NingEventWidget-v1
VERSION:2.0
METHOD:PUBLISH
BEGIN:VEVENT
UID:1171189:Event:70573
DTSTAMP:20260421T201823Z
SUMMARY:Happy Hour for Progressive Faculty & Staff
DESCRIPTION:Are you a progressive working on campus? Join Campus2Commu
 nity for happy hour on Wednesday, May 11 from 6:00 PM at Lir Irish Pub
  (903 Boylston St, Boston) to meet other campus progressives!RSVP at h
 ttp://www.c2cnet.org! Event fee: $2 cash.Campus2Community is an inclus
 ive multi-issue network of progressive faculty and staff in the Greate
 r Boston area. C2C network is a project of Socializing for Justice (ht
 tp://www.sojust.org), a grassroots group established in 2006 to build 
 a cross-issue progressive community, network and movement in Boston by
  putting the SOCIAL back in social justice. Show up to get connected a
 nd collaborate (or commiserate) with like-minded progressives from oth
 er departments and other area campuses. Be inspired by all the great o
 rganizing, research and education being created in Boston area schools
 .Beyond meeting progressive faculty and staff - C2C network will help 
 you get connected with local social justice organizations so you can b
 etter support the progressive students on your campus.To get started -
  meet us for happy hour!\n\nFor more information visit http://neighbor
 sforneighbors.org/events/happy-hour-for-progressive
DTSTART:20110511T220000Z
DTEND:20110512T000000Z
CATEGORIES:social, mixer, progressive, university, eduation
LOCATION:Lir Irish Pub & Restaurant
WEBSITE:http://www.c2cnet.org
URL:http://www.c2cnet.org
CONTACT:
ORGANIZER:Campus2Community
ATTACH;FMTTYPE="image/jpeg":http://storage.ning.com/topology/rest/1.0/
 file/get/2245132577?profile=original
ATTENDEE;ROLE=REQ-PARTICIPANT;PARTSTAT=ACCEPTED;RSVP=TRUE;CN="Socializ
 ing for Justice":http://neighborsforneighbors.org/profile/Socializingf
 orJustice71
END:VEVENT
END:VCALENDAR
