BEGIN:VCALENDAR
PRODID:NingEventWidget-v1
VERSION:2.0
METHOD:PUBLISH
BEGIN:VEVENT
UID:1171189:Event:69627
DTSTAMP:20260421T214629Z
SUMMARY:Help Clean up South West Corridor Park at Stony Brook T
DESCRIPTION:HELP CLEAN UP SWC PARK at the STONY BROOK T SWC PARK AND D
 CR CLEAN UP DAYSATURDAY APRIL 16, 2011\nWHERE:  in front of the Stony
  Brook T station WHEN:    10:00 to 12:00 noon this Saturday, the 16
 thWHY:       to clean up this section of the park so JP’ers ca
 n Wake Up the Earth, on 7 May\nPLEASE RSVP (so we know how many shovel
 s, brooms, bags to bring, or if we need to re-schedule).   Please co
 ntact Janet Hunkel at 617-723-8471 (leave message) or jhunkel@aol.com.
 \nGovernor Deval Patrick, Lieutenant Governor Tim Murray, Energy and E
 nvironmental Affairs Secretary Rick Sullivan and Department of Conserv
 ation and Recreation Commissioner Ed Lambert invite you to join us for
  Park Serve Day 2011.This year’s event features 40 parks, from the B
 erkshires to Cape Cod, giving you a wide range of volunteer opportunit
 ies to choose from. Last year, more than 4,000 volunteers participated
  in Park Serve Day. During this statewide day of volunteer service, we
  will work together to get parks and beaches across Massachusetts read
 y for summer by cleaning coastlines, clearing trails, planting flowers
 , painting picnic tables, and more.\nVISIT DCR ONLINE ATWWW.MASS.GOV/D
 CR/PS\n\nFor more information visit http://neighborsforneighbors.org/e
 vents/help-clean-up-south-west
DTSTART:20110416T140000Z
DTEND:20110416T160000Z
CATEGORIES:volunteer
LOCATION:Stony Brook T
WEBSITE:http://WWW.MASS.GOV/DCR/PS
URL:http://WWW.MASS.GOV/DCR/PS
CONTACT:617-723-8471
ORGANIZER:Janet Hunkel
ATTACH;FMTTYPE="image/jpeg":
ATTENDEE;ROLE=REQ-PARTICIPANT;PARTSTAT=ACCEPTED;RSVP=TRUE;CN="Jenny Jo
 nes":http://neighborsforneighbors.org/profile/JennyJones
END:VEVENT
END:VCALENDAR
