BEGIN:VCALENDAR
PRODID:NingEventWidget-v1
VERSION:2.0
METHOD:PUBLISH
BEGIN:VEVENT
UID:1171189:Event:37847
DTSTAMP:20260421T232024Z
SUMMARY:Hidden JP History: Worker Housing and the Legacy of Robert Tre
 at Paine
DESCRIPTION:Come learn the inspiring local history of Robert Treat Pai
 ne and his work to build affordable housing in the Hyde Square neighbo
 rhood. Paine was a prominent business leader and great grandson of a s
 igner of the Declaration of Independence with the same name. Paine pus
 hed to expand homeownership for working families, organizing alongside
  the Workingman's Cooperative Bank.\n\nCo-Sponsored by the Jamaica Pla
 in Historical Society\n\nFor more information visit http://neighborsfo
 rneighbors.org/events/hidden-jp-history-worker
DTSTART:20100321T230000Z
DTEND:20100322T010000Z
CATEGORIES:discussion
LOCATION:First Church in Jamaica Plain UU, 6 Eliot Street (Across from
  the monument)
WEBSITE:
URL:
CONTACT:
ORGANIZER;CN="Liz W.":http://neighborsforneighbors.org/profile/LizW
ATTACH;FMTTYPE="image/jpeg":http://storage.ning.com/topology/rest/1.0/
 file/get/2245125529?profile=original
ATTENDEE;ROLE=REQ-PARTICIPANT;PARTSTAT=ACCEPTED;RSVP=TRUE;CN="Liz W.":
 http://neighborsforneighbors.org/profile/LizW
END:VEVENT
END:VCALENDAR
