BEGIN:VCALENDAR
PRODID:NingEventWidget-v1
VERSION:2.0
METHOD:PUBLISH
BEGIN:VEVENT
UID:1171189:Event:34607
DTSTAMP:20260421T150842Z
SUMMARY:Hilken Mancini's Crazy Birthday Show
DESCRIPTION:#\nFriday, February 5, 2010 at 10:00pm\n# Hilken Mancini w
 ith the following special guests:\nChris Colbourn from Buffalo Tom.\nC
 hris Toppin From Fuzzy\nAudrey Ryan\n# David Fredette from the Upper C
 rust\nShepherdess\nUnderbite: Brett Saiia, Tom Novotney, Winston Brama
 n, Mike Savage, Pat McDonald\nAnd:\nspecial guest DJ: TD Sidell\nalso 
 special performances by :\n# Chris Braiotta, emily arkin, Laura Sweene
 y, Chris Dias\n\nFor more information visit http://neighborsforneighbo
 rs.org/events/hilken-mancinis-crazy-birthday
DTSTART:20100206T030000Z
DTEND:20100206T060000Z
CATEGORIES:"folk/alt/pop/rock"
LOCATION:The Alchemist Lounge
WEBSITE:http://www.myspace.com/alchemistloungejp
URL:http://www.myspace.com/alchemistloungejp
CONTACT:617-477-5741
ORGANIZER;CN=Lyndon:http://neighborsforneighbors.org/profile/Lyndon
ATTACH;FMTTYPE="image/jpeg":http://storage.ning.com/topology/rest/1.0/
 file/get/2245136004?profile=original
ATTENDEE;ROLE=REQ-PARTICIPANT;PARTSTAT=ACCEPTED;RSVP=TRUE;CN=Lyndon:ht
 tp://neighborsforneighbors.org/profile/Lyndon
ATTENDEE;ROLE=REQ-PARTICIPANT;PARTSTAT=TENTATIVE;RSVP=TRUE;CN="Lars Kn
 akkergaard":http://neighborsforneighbors.org/profile/LarsKnakkergaard
END:VEVENT
END:VCALENDAR
