BEGIN:VCALENDAR
PRODID:NingEventWidget-v1
VERSION:2.0
METHOD:PUBLISH
BEGIN:VEVENT
UID:1171189:Event:49504
DTSTAMP:20260421T181938Z
SUMMARY:Historic Home Talk
DESCRIPTION:Michael Reiskind will be speaking at McCormack & Scanlan R
 eal Estate Wednesday evening (July 28th) 6:30-8pm. All are welcome\n\n
 For more information visit http://neighborsforneighbors.org/events/his
 toric-home-talk
DTSTART:20100728T223000Z
DTEND:20100729T000000Z
CATEGORIES:jp, historic, talk
LOCATION:McCormack & Scanlan Real Estate
WEBSITE:http://www.JP02130.com
URL:http://www.JP02130.com
CONTACT:617-522-7355
ORGANIZER;CN="Karen McCormack":http://neighborsforneighbors.org/profil
 e/KarenMcCormack
ATTACH;FMTTYPE="image/jpeg":http://storage.ning.com/topology/rest/1.0/
 file/get/2245130604?profile=original
ATTENDEE;ROLE=REQ-PARTICIPANT;PARTSTAT=ACCEPTED;RSVP=TRUE;CN="Karen Mc
 Cormack":http://neighborsforneighbors.org/profile/KarenMcCormack
END:VEVENT
END:VCALENDAR
