BEGIN:VCALENDAR
PRODID:NingEventWidget-v1
VERSION:2.0
METHOD:PUBLISH
BEGIN:VEVENT
UID:1171189:Event:93107
DTSTAMP:20260421T200343Z
SUMMARY:HJSMS Board/Volunteer Info Session and Annual Meeting
DESCRIPTION:Board%2B%26%2BVolunteer%2BRecruitment%2BFlyer%2B20130131.p
 df\n \n\nFor more information visit http://neighborsforneighbors.org/
 events/hjsms-board-volunteer-info-session-and-annual-meeting
DTSTART:20130131T223000Z
DTEND:20130201T003000Z
CATEGORIES:info, session, "&", annual, meeting
LOCATION:Chevrus Building
WEBSITE:
URL:
CONTACT:617-522-3694
ORGANIZER;CN="Gretchen Van Ness":http://neighborsforneighbors.org/prof
 ile/GretchenVanNess
ATTACH;FMTTYPE="image/jpeg":http://storage.ning.com/topology/rest/1.0/
 file/get/2245132968?profile=original
ATTENDEE;ROLE=REQ-PARTICIPANT;PARTSTAT=ACCEPTED;RSVP=TRUE;CN="Gretchen
  Van Ness":http://neighborsforneighbors.org/profile/GretchenVanNess
END:VEVENT
END:VCALENDAR
