BEGIN:VCALENDAR
PRODID:NingEventWidget-v1
VERSION:2.0
METHOD:PUBLISH
BEGIN:VEVENT
UID:1171189:Event:86673
DTSTAMP:20260421T232747Z
SUMMARY:Holiday Concert, with the Copley Singers accompanied by St. Ma
 ryâ€™s historic 1892 Woodberry and Harris 3 manual organ
DESCRIPTION:Holiday Concert, with the Copley Singers accompanied by St
 . Maryâ€™s historic 1892 Woodberry and Harris 3 manual organ. Free and
  open to everyone, with a suggestion of donations to benefit Harvest o
 n Vine Food Pantry. For more information.The 35-voice Copley Singers, 
 under the direction of Brian Jones with organist Mark Dwyer, will perf
 orm carols, ancient and modern, from Europe and the Americas. Some exa
 mples will be sung a cappella; others will be accompanied by St. Maryâ
 €™s historic 1892 Woodberry and Harris 3 manual organ. The audience wi
 ll be invited to participate in four carols.The Copley Singers, a Bost
 on-based choir founded in 2006, are a congenial group of auditioned vo
 lunteers and professionals, all dedicated to the art of fine singing a
 nd the joy of communicating their love of this art to the public. Bria
 n Jones is Emeritus Director of Music at Trinity Church, Copley Square
 , Boston, an active organ concert artist and guest conductor with many
  recordings to his credit.Well known as both a skilled church musician
  as well as concert artist, Mark Dwyer is the organist and Choirmaster
  of The Church of the Advent, Boston, and frequent visitor to the orga
 n bench at St. Maryâ€™s. The Woodberry and Harris organ has been in pl
 ace since St. Maryâ€™s consecration in 1892. The firmâ€™s opus 100 has
  3 manuals, 37 stops, and 41 ranks of pipes (2501 pipes). The pipework
  ranges from tiny tin pipes half the size of a pencil to 18 feet long 
 wooden giants 12 x 18 inches in section. The congregation of St. Maryâ
 €™s is very much aware of its valuable treasure and is beginning to ta
 ke actions to see that the Woodberry continues to charm and impress fo
 r another 100 years.\n\nFor more information visit http://neighborsfor
 neighbors.org/events/holiday-concert-with-the-copley-singers-accompani
 ed-by-st-mary-s
DTSTART:20111211T203000Z
DTEND:20111211T213000Z
CATEGORIES:holiday, music, organ, choral, christmas
LOCATION:St. Mary's Church
WEBSITE:http://www.stmarystcatherine.org
URL:http://www.stmarystcatherine.org
CONTACT:617-242-4664
ORGANIZER:St. Mary-St. Catherine of Siena Parish together with the Fri
 ends of the Charlestown Branch Library and Hammond Residential Real Es
 tate.
ATTACH;FMTTYPE="image/jpeg":http://storage.ning.com/topology/rest/1.0/
 file/get/2245135999?profile=original
ATTENDEE;ROLE=REQ-PARTICIPANT;PARTSTAT=ACCEPTED;RSVP=TRUE;CN="Mary Cur
 tin":http://neighborsforneighbors.org/profile/MaryCurtin
END:VEVENT
END:VCALENDAR
