BEGIN:VCALENDAR
PRODID:NingEventWidget-v1
VERSION:2.0
METHOD:PUBLISH
BEGIN:VEVENT
UID:1171189:Event:58784
DTSTAMP:20260421T165953Z
SUMMARY:Holiday Fair! Dec. 4 (Sat.) 9-2
DESCRIPTION:Come check out the Holiday Fair at Covenant Congregational
  Church! Pies, gifts, hot lunch, second-hand items, silent auction, an
 d baked goodies. Come say hi, check things out, eat some good homemade
  food and take home some goodies. Hope to see you there! Saturday, Dec
 . 4, 9am-2pm. 455 Arborway, next to the courthouse.\n\nFor more inform
 ation visit http://neighborsforneighbors.org/events/holiday-fair-dec-4
 -sat-92
DTSTART:20101204T140000Z
DTEND:20101204T190000Z
CATEGORIES:community, party, fair, fundraiser
LOCATION:Forest Hills
WEBSITE:http://www.bostoncov.org
URL:http://www.bostoncov.org
CONTACT:617-524-0775
ORGANIZER;CN="Fred Elliott-Hart":http://neighborsforneighbors.org/prof
 ile/FredElliottHart
ATTACH;FMTTYPE="image/jpeg":http://storage.ning.com/topology/rest/1.0/
 file/get/2245131070?profile=original
ATTENDEE;ROLE=REQ-PARTICIPANT;PARTSTAT=ACCEPTED;RSVP=TRUE;CN=Kristi:ht
 tp://neighborsforneighbors.org/profile/Kristi
ATTENDEE;ROLE=REQ-PARTICIPANT;PARTSTAT=ACCEPTED;RSVP=TRUE;CN="Fred Ell
 iott-Hart":http://neighborsforneighbors.org/profile/FredElliottHart
END:VEVENT
END:VCALENDAR
