BEGIN:VCALENDAR
PRODID:NingEventWidget-v1
VERSION:2.0
METHOD:PUBLISH
BEGIN:VEVENT
UID:1171189:Event:104799
DTSTAMP:20260421T204013Z
SUMMARY:Holiday Tree Lighting and Small Business Saturday
DESCRIPTION:This holiday season Roslindale Village invites you to expe
 rience a Rozzie Christmas like no other. The Village will transform in
 to a winter wonderland worthy of Whoville. The 29th Annual Tree Lighti
 ng ceremony marks the official kick off of the holidays in the Village
 , starting at 3:00 PM in Adams Park on Saturday, November 30th.\n \
 nThis much-loved event always draws a crowd to enjoy the performances,
  crafts, ornament art projects for the kids this year featuring Art Va
 n Go, a mobile art van based in Roslindale, and Santa's arrival in the
  Ladder 16 fire truck. There will be free hot chocolate, treats from l
 ocal bakeries, carolers from the Sacred Heart Chorus, the Christopher 
 Mish Brass Quartet, and of course, visits with Santa and Mayor Menino.
 \nNovember 30th is also Small Business Saturday, a national campaign 
 by American Express to help spur business for neighborhood merchants. 
 Roslindale Village has been chosen as one of three locations across th
 e country to be showcased. Special deals will be available for America
 n Express cardholders as well as chances to win $25 American Express g
 ift cards, so be on the lookout for raffle boxes at your favorite busi
 nesses.\n\nFor more information visit http://neighborsforneighbors.org
 /events/holiday-tree-lighting-and-small-business-saturday
DTSTART:20131130T200000Z
DTEND:20131130T220000Z
CATEGORIES:holiday, event
LOCATION:Roslindale Square
WEBSITE:http://roslindale.net
URL:http://roslindale.net
CONTACT:617 327 4065
ORGANIZER;CN="Ben Sommer":http://neighborsforneighbors.org/profile/Ben
 Sommer
ATTACH;FMTTYPE="image/jpeg":
ATTENDEE;ROLE=REQ-PARTICIPANT;PARTSTAT=ACCEPTED;RSVP=TRUE;CN="Ben Somm
 er":http://neighborsforneighbors.org/profile/BenSommer
END:VEVENT
END:VCALENDAR
