BEGIN:VCALENDAR
PRODID:NingEventWidget-v1
VERSION:2.0
METHOD:PUBLISH
BEGIN:VEVENT
UID:1171189:Event:104893
DTSTAMP:20260421T204133Z
SUMMARY:Holiday Wander in Roslindale Village
DESCRIPTION:On the first three Thursday evenings in December, more t
 han 25 Roslindale village shops and restaurants will stay open late fo
 r the holiday season. In addition, they will be hosting wine and food
  tastings, performances, or offering great deals. Here is just a sampl
 e of what some businesses will be offering or hosting this Holiday Wan
 der:\n \nThe Wander kicks off with free childcare at the Roslindale C
 ommunity Center. Drop your children off at the Community Center on Cum
 mins Highway for the evening and hit the town to enjoy some grown up f
 un such as a wine tasting co-hosted by Redd’s in Rozzie and Tony’s
  Market with a selection of food and wine from Tony's home region of N
 apoli. There will be a host of treats including comfort food - small p
 late delicacies by Charlie Redd, Tony's sausages also prepared by Char
 lie, and all-natural beef stew from Tony's. 6-8pm \n \n On December
  12th, El Chavo Mexican Products will be hosting a Posada Navideña. 
 A true Mexica (and now Roslindale tradition)  Nativity re-enactment o
 f Joseph and Mary seeking lodging. Come dressed warm, ready to carol f
 or \"POSADA\" or \"SHELTER\" around the square and expect to be greete
 d by warm tamales, champurrado, piñatas for the kids and other Mexica
 n goodies. We will depart from El Chavo accompanied by a Mariachi Band
  at 6:00 pm sharp!\n \nDecember 19th will feature roving musicians, c
 aroling, and a luminary candle-lighting event in Adams Park.\n \nFor 
 more information, please visit the Roslindale Village Main Street webs
 ite at roslindale.net\n \n\n\nFor more information visit http://neigh
 borsforneighbors.org/events/holiday-wander-in-roslindale-village
DTSTART:20131205T220000Z
DTEND:20131220T020000Z
CATEGORIES:holiday
LOCATION:Roslindale Village
WEBSITE:
URL:
CONTACT:617 327 4065
ORGANIZER;CN="Ben Sommer":http://neighborsforneighbors.org/profile/Ben
 Sommer
ATTACH;FMTTYPE="image/jpeg":
ATTENDEE;ROLE=REQ-PARTICIPANT;PARTSTAT=ACCEPTED;RSVP=TRUE;CN="Ben Somm
 er":http://neighborsforneighbors.org/profile/BenSommer
END:VEVENT
END:VCALENDAR
