BEGIN:VCALENDAR
PRODID:NingEventWidget-v1
VERSION:2.0
METHOD:PUBLISH
BEGIN:VEVENT
UID:1171189:Event:58562
DTSTAMP:20260421T185415Z
SUMMARY:Home For Little Wanderers Toy Drive
DESCRIPTION:Ellen and I are the Toy Captains this year for the toy dri
 ve to benefit the Home for Little Wanderers.\n\nColdwell Banker is als
 o a drop off spot for toys. 713 Centre St Jamaica Plain 9:30am-5:30pm 
 OR if you have a toy you want to drop off at off hours, please call me
  617-869-0496\n\nThe delivery date to the home is Thurs. Dec 16th\n\nF
 or more information visit http://neighborsforneighbors.org/events/home
 -for-little-wanderers-toy
DTSTART:20101130T050000Z
DTEND:20101217T045900Z
CATEGORIES:big, "wishes\"toy", drive
LOCATION:Coldwell Banker
WEBSITE:http://www.thehome.org/site/PageServer?pagename=events_big_wis
 hes
URL:http://www.thehome.org/site/PageServer?pagename=events_big_wishes
CONTACT:617-869-0496
ORGANIZER;CN="Janis Lippman":http://neighborsforneighbors.org/profile/
 JanisLippman
ATTACH;FMTTYPE="image/jpeg":http://storage.ning.com/topology/rest/1.0/
 file/get/2245131059?profile=original
ATTENDEE;ROLE=REQ-PARTICIPANT;PARTSTAT=ACCEPTED;RSVP=TRUE;CN="Janis Li
 ppman":http://neighborsforneighbors.org/profile/JanisLippman
END:VEVENT
END:VCALENDAR
