BEGIN:VCALENDAR
PRODID:NingEventWidget-v1
VERSION:2.0
METHOD:PUBLISH
BEGIN:VEVENT
UID:1171189:Event:50562
DTSTAMP:20260421T214750Z
SUMMARY:Homeschooling Seminar
DESCRIPTION:Robin Maxfield successfully home schooled her 17 year old 
 daughter Victoria from Kindergarten through 6th grade in a cooperative
  home school group of five families. Victoria then went to Boston Lati
 n and will be attending the prestigious Interlochen Arts Academy for h
 er senior year. Her second daughter Violet has been in a private schoo
 l until 5th grade and will be homeschooling next year in an all girl c
 ooperative made up of 4 families organized by Robin.\nIn this workshop
  all of your questions will be answered!\nWhy consider homeschooling?\
 nWhat is the time commitment?\nHow does one form a homechooling cooper
 ative?\nHow does socialization work?\nWhat are the legal requirements?
 \nWhat are the resources?\nHow will my child get into a school later?\
 nHow will I know that my child is up to speed with the Massachusetts C
 urriculum?\nAsk questions directly to homeschooled children and meet o
 ther parents who are considering this option.\n\n* The word 'home scho
 oling' is used here because most people are familiar with the term. We
  will actually be discussing 'unschooling' which is child led learning
  with adult facilitation. It is philosophically different in that the 
 children direct the learning and the adults support them. Many home sc
 hoolers try to imitate school at home and since our education system i
 s failing miserably we won't be trying to do that!\n\nFor more informa
 tion visit http://neighborsforneighbors.org/events/homeschooling-semin
 ar-1
DTSTART:20100818T230000Z
DTEND:20100819T003000Z
CATEGORIES:seminar
LOCATION:Boing! Toy Store
WEBSITE:http://www.homeschooling.eventbrite.com
URL:http://www.homeschooling.eventbrite.com
CONTACT:617-293-8004
ORGANIZER;CN="Robin Maxfield":http://neighborsforneighbors.org/profile
 /RobinMaxfield800
ATTACH;FMTTYPE="image/jpeg":http://storage.ning.com/topology/rest/1.0/
 file/get/2245140201?profile=original
ATTENDEE;ROLE=REQ-PARTICIPANT;PARTSTAT=ACCEPTED;RSVP=TRUE;CN="Robin Ma
 xfield":http://neighborsforneighbors.org/profile/RobinMaxfield800
END:VEVENT
END:VCALENDAR
