BEGIN:VCALENDAR
PRODID:NingEventWidget-v1
VERSION:2.0
METHOD:PUBLISH
BEGIN:VEVENT
UID:1171189:Event:81783
DTSTAMP:20260422T062751Z
SUMMARY:HONK! Festival 2011, Sept. 30-Oct.3
DESCRIPTION:SixthAnnual Festival of Activist Street BandsAlmost all ev
 ents are free and open to everyone. The Friday night Kickoff and Sunda
 y night Boat Cruise are $10 per ticket.HONK!: the activist musical cra
 ze sweeping the nation – from Boston to Providence to Brooklyn to Au
 stin to Seattle -- and every Fall back to Boston, with HONK! bands mig
 rating from far and near, descending upon the HONK! epicenter, where f
 estival participants (including the audience) can gaggle, gander, and 
 generate the gregarious racket that signifies the HONK! experience. Up
  to 30 bands, with many concerts, a huge parade, several workshops and
  a boatcruise. Festival updates can be found at http://www.honkfest.or
 g, http://twitter.com/honkfest, and http://www.facebook.com/honkfestiv
 al, or by calling 617-383-HONK (4665). The HONK! phenomenon was born 6
  years ago in Davis Square spurred on by a need of a certain species o
 f street band to congregate and celebrate their social activist side. 
 HONK! lets the good times roll while being ever mindful that some bad 
 times need fixing. HONK! believes thatstreet-wise music can be the age
 nt of change for the better. HONK! is the universal tongue for hey-wak
 e-up-and-pay-attention!This year there will be honk-like opportunities
  galore with outdoor band concerts in Davis, spilling over into Harvar
 d Square and surrounding neighborhoods, and for the first time ever, s
 plashing out into the Boston Harbor. Rain or shine from September 30 t
 hrough October 3, HONK! will release its clarion call throughout the B
 oston-area – a call to wage peace, harmony, and just plain fun.\n\nF
 or more information visit http://neighborsforneighbors.org/events/honk
 -festival-2011-sept-30-oct-3
DTSTART:20110930T040000Z
DTEND:20111004T035900Z
CATEGORIES:music, festival
LOCATION:HONK! Headquarters
WEBSITE:http://www.honkfest.org
URL:http://www.honkfest.org
CONTACT:617-383-4665
ORGANIZER:HONK! Festival
ATTACH;FMTTYPE="image/jpeg":http://storage.ning.com/topology/rest/1.0/
 file/get/2245144812?profile=original
ATTENDEE;ROLE=REQ-PARTICIPANT;PARTSTAT=ACCEPTED;RSVP=TRUE;CN="Mary Cur
 tin":http://neighborsforneighbors.org/profile/MaryCurtin
END:VEVENT
END:VCALENDAR
