BEGIN:VCALENDAR
PRODID:NingEventWidget-v1
VERSION:2.0
METHOD:PUBLISH
BEGIN:VEVENT
UID:1171189:Event:91779
DTSTAMP:20260421T172418Z
SUMMARY:HONK! Festival 2012: with 34 activist street bands -- October 
 4-8, 2012
DESCRIPTION:HONK! Festival updates can be found at www.honkfest.org, h
 ttp://twitter.com/honkfest, and www.facebook.com/honkfestival, or by c
 alling 617-383-HONK (4665). There will be many mostly free opportuniti
 es to experience the HONK! craze, with outdoor concerts, a massive par
 ade and smaller processions, affordably priced indoor concerts, and a 
 symposium, all taking place in Somerville and Cambridge neighborhoodsT
 hirty-four (or more!) activist street bands, current roster:  AfroBraz
 il, Brass Balagan, Brass Liberation Orchestra, Brass Messengers, The B
 read & Puppet Theater Circus Band, Caka!ak Thunder, Carnival Band, Cha
 otic Insurrection Ensemble, Chaotic Noise Marching Corp, Church Marchi
 ng Band, Detroit Party Marching Band, Dirty Water Brass Band, DJA-Rara
 , EE-Environmental Encroachment, Emperor Norton's Stationary Marching 
 Band, Expandable Brass Band, Extraordinary Rendition Band, Forward! Ma
 rching Band, Gora Gora Orkestar, Hill Stompers, Himalayas, Leftist Mar
 ching Band, Loyd Family Players, Lungs Face Feet, Minor Mishap Marchin
 g Band, Pink Puffers Brass Band, The Primate Fiasco, Rude Mechanical O
 rchestra, Second Line Social Aid & Pleasure Society Brass Band, Seed a
 nd Feed Marching Abominable, tint(A)nar, Veveritse, What Cheer? Brigad
 e, and Young Fellaz Brass Band.\n\nFor more information visit http://n
 eighborsforneighbors.org/events/honk-festival-2012-with-34-activist-st
 reet-bands-october-4-8-2012
DTSTART:20121004T040000Z
DTEND:20121009T035900Z
CATEGORIES:music, festival
LOCATION:Davis Square, Somerville, MA
WEBSITE:http://honkfest.org
URL:http://honkfest.org
CONTACT:617-383-4665
ORGANIZER:HONK! Festival
ATTACH;FMTTYPE="image/jpeg":http://storage.ning.com/topology/rest/1.0/
 file/get/2245140661?profile=original
ATTENDEE;ROLE=REQ-PARTICIPANT;PARTSTAT=ACCEPTED;RSVP=TRUE;CN="Mary Cur
 tin":http://neighborsforneighbors.org/profile/MaryCurtin
END:VEVENT
END:VCALENDAR
