BEGIN:VCALENDAR
PRODID:NingEventWidget-v1
VERSION:2.0
METHOD:PUBLISH
BEGIN:VEVENT
UID:1171189:Event:91573
DTSTAMP:20260422T000038Z
SUMMARY:Hospice volunteer training (free)
DESCRIPTION:Put your social skills to work for a worthwhile cause. Bea
 con Hospice in Boston is looking for volunteers to provide friendly vi
 sits and companionship to patients throughout the Greater Boston area.
  We are specifically in need of volunteers willing to go to Hyde Park,
  Dorcester, Quincy and Milton.\nWe provide a comprehensive orientation
  and training for all volunteers as well as continuing education, ongo
 ing support and supervision. Training will take place on 9/26, 10/3 an
 d 10/10 from 6-9pm. PLEASE CALL TO RSVP FOR TRAINING.\nThis is a great
  fit for students looking to build a resume/gain experience in the med
 ical or geriatrics fields, retirees with time to share, and anyone int
 erested in providing companionship to someone in need.\nFor more infor
 mation, please visit http://www.beaconhospice.com/volunteer/index.php\
 nor call Megan Curtis, Volunteer Coordinator at 617-242-8370.\n\nFor m
 ore information visit http://neighborsforneighbors.org/events/hospice-
 volunteer-training-free
DTSTART:20120926T220000Z
DTEND:20121011T010000Z
CATEGORIES:volunteer, training
LOCATION:Schraffts Building
WEBSITE:http://www.beaconhospice.com/volunteer/apply.php
URL:http://www.beaconhospice.com/volunteer/apply.php
CONTACT:617-242-8370
ORGANIZER;CN="Megan Curtis":http://neighborsforneighbors.org/profile/M
 eganCurtis713
ATTACH;FMTTYPE="image/jpeg":
ATTENDEE;ROLE=REQ-PARTICIPANT;PARTSTAT=ACCEPTED;RSVP=TRUE;CN="Megan Cu
 rtis":http://neighborsforneighbors.org/profile/MeganCurtis713
END:VEVENT
END:VCALENDAR
