BEGIN:VCALENDAR
PRODID:NingEventWidget-v1
VERSION:2.0
METHOD:PUBLISH
BEGIN:VEVENT
UID:1171189:Event:51077
DTSTAMP:20260421T165725Z
SUMMARY:Hot Yardsale:  Downsizing from 5 rooms to 1  - great deals ahe
 ad!
DESCRIPTION:All kinds of items for sale including: kitchen table set, 
 small vestibule, large supply closet, shelves, framed pictures, art st
 uff, clothing (adult and teenage), knick knacks, jewelery, -----get th
 e pic?\n\nPriced to go but will keep while you find way to cart with g
 ood downpayment.\n\nFor more information visit http://neighborsforneig
 hbors.org/events/hot-yardsale-downsizing-from
DTSTART:20100821T130000Z
DTEND:20100821T220000Z
CATEGORIES:yard, sale
LOCATION:Jamaica Plain - just off Center St.
WEBSITE:
URL:
CONTACT:
ORGANIZER:Hartke
ATTACH;FMTTYPE="image/jpeg":
ATTENDEE;ROLE=REQ-PARTICIPANT;PARTSTAT=ACCEPTED;RSVP=TRUE;CN="Karen Ha
 rtke":http://neighborsforneighbors.org/profile/KarenHartke
END:VEVENT
END:VCALENDAR
