BEGIN:VCALENDAR
PRODID:NingEventWidget-v1
VERSION:2.0
METHOD:PUBLISH
BEGIN:VEVENT
UID:1171189:Event:27114
DTSTAMP:20260421T200343Z
SUMMARY:Huge YARDSALE Sunday 8am to benefit Stonybrook Fine Arts!
DESCRIPTION:We're having a huge yardsale in Mission Hill this Sunday a
 t 8am at 222 Calumet Street to benefit Stonybrook Fine Arts! Furniture
 , kitchen & house wares, linens, clothes, tvs, radios, kitchen cabinet
 s, etc\n\nIf anyone wants to help us set-up, we're starting at 6am :) 
 and we're organizing stuff Saturday at the same location.\n\nContact A
 nne 617-799-3644\n\nFor more information visit http://neighborsforneig
 hbors.org/events/huge-yardsale-sunday-8am-to
DTSTART:20090809T120000Z
DTEND:20090809T220000Z
CATEGORIES:yard, sale, fundraiser, for, stonybrook, fine, arts
LOCATION:Mission Hill Yard Sale
WEBSITE:
URL:
CONTACT:617-799-3644
ORGANIZER;CN="Stonybrook Fine Arts":http://neighborsforneighbors.org/p
 rofile/StonybrookFineArts
ATTACH;FMTTYPE="image/jpeg":
ATTENDEE;ROLE=REQ-PARTICIPANT;PARTSTAT=ACCEPTED;RSVP=TRUE;CN="Stonybro
 ok Fine Arts":http://neighborsforneighbors.org/profile/StonybrookFineA
 rts
END:VEVENT
END:VCALENDAR
