BEGIN:VCALENDAR
PRODID:NingEventWidget-v1
VERSION:2.0
METHOD:PUBLISH
BEGIN:VEVENT
UID:1171189:Event:83689
DTSTAMP:20260421T182227Z
SUMMARY:I Am Hyde Square Task Force Photo Exhibit
DESCRIPTION:Photo exhibit: Nov 6 - Dec 31 at Bella Luna featuring port
 raits by Mark Saperstein, Jamaica Plain resident and HSTF Board Member
  of youth, alum, donors, volunteers, and supporters who make Hyde Squa
 re Task Force amazing.\nJOIN US on NOVEMBER 17 for a Celebration and R
 eception to learn more about HSTF. You too can be Hyde Square Task For
 ce and change the lives of young people. Find out how!\nFREE and OPEN 
 TO EVERYONE! Bring friends and the family! (Pizza will be served. Cash
  bar)\nQuestions? Call 617-524-8303.\n\nFor more information visit htt
 p://neighborsforneighbors.org/events/i-am-hyde-square-task-force-photo
 -exhibit
DTSTART:20111117T230000Z
DTEND:20111118T013000Z
CATEGORIES:celebration
LOCATION:Bella Luna
WEBSITE:
URL:
CONTACT:617-524-8303
ORGANIZER:Hyde Square Task Force
ATTACH;FMTTYPE="image/jpeg":http://storage.ning.com/topology/rest/1.0/
 file/get/2245136507?profile=original
ATTENDEE;ROLE=REQ-PARTICIPANT;PARTSTAT=ACCEPTED;RSVP=TRUE;CN=Karen:htt
 p://neighborsforneighbors.org/profile/Karen
END:VEVENT
END:VCALENDAR
