BEGIN:VCALENDAR
PRODID:NingEventWidget-v1
VERSION:2.0
METHOD:PUBLISH
BEGIN:VEVENT
UID:1171189:Event:74517
DTSTAMP:20260421T202125Z
SUMMARY:In the Groves: A Summer Solstice Journey
DESCRIPTION:In the Groves: A Summer Solstice Journey\nwith Award-winni
 ng storyteller Diane Edgecomb (www.livingmyth.com)\naccompanied by Mar
 got Chamberlain on Celtic harp and Song\n Where: Arnold Arboretum (sto
 ry and music event begins at the Hunnewell Visitor’s Center) 125 the
  Jamaicaway, Jamaica Plain, MA 02130\n \nFri Jun 24th  6:30–8:30pm
 \nSat Jun 25th  6:30- 8:30 pm\n Tickets $20 per person - suggested fo
 r ages eleven and above.\nReservations through the Arnold Arboretum at
  617-384-5277 or on the web at my.arboretum.harvard.edu\n \nIn the Gr
 oves is an annual story and music event to celebrate the Summer Solsti
 ce. This strolling performance takes the audience on a two-mile journe
 y through Jamaica Plain’s Arnold Arboretum to some of its oldest and
  loveliest groves where legends, songs and music that center on those 
 particular trees will be shared. This enchanting evening of tree myths
  from around the world was designed specifically for the Arnold Arbore
 tum. It starts at the Arnold Arboretum’s Hunnewell Visitor’s Build
 ing, 125 the Arborway and continues along tree-lined paths with story 
 and music accompanying the way. As twilight descends the audience visi
 ts cherry, evergreen, ash and birch groves ~ celebrating nature with t
 ree legends, songs and music from many lands. Pieces and music are dra
 wn from the rich cultural traditions of Japan, Wales, England, Austral
 ia, Russia and Native America. The evening culminates with the hauntin
 g Czech legend “The Wild Woman of the Birch Grove” told among the 
 birches of Bussey Hill at sunset. Appropriate for adults and for child
 ren eleven years and above. Bring a cushion to sit on if you wish. The
  performance takes place rain or shine. In the event of rain, it will 
 be held indoors and additional Solstice legends will be added. Reserva
 tions through the Arnold Arboretum at 617-384-5277 or on the web at my
 .arboretum.harvard.edu\n\nFor more information visit http://neighborsf
 orneighbors.org/events/in-the-groves-a-summer-4
DTSTART:20110624T223000Z
DTEND:20110625T003000Z
CATEGORIES:story, and, music, event
LOCATION:Arnold Arboretum
WEBSITE:http://www.livingmyth.com/upcoming/adult.php
URL:http://www.livingmyth.com/upcoming/adult.php
CONTACT:617-384-5277
ORGANIZER;CN="Diane Edgecomb":http://neighborsforneighbors.org/profile
 /DianeEdgecomb
ATTACH;FMTTYPE="image/jpeg":http://storage.ning.com/topology/rest/1.0/
 file/get/2245133325?profile=original
ATTENDEE;ROLE=REQ-PARTICIPANT;PARTSTAT=ACCEPTED;RSVP=TRUE;CN="Diane Ed
 gecomb":http://neighborsforneighbors.org/profile/DianeEdgecomb
END:VEVENT
END:VCALENDAR
