BEGIN:VCALENDAR
PRODID:NingEventWidget-v1
VERSION:2.0
METHOD:PUBLISH
BEGIN:VEVENT
UID:1171189:Event:114647
DTSTAMP:20260421T200345Z
SUMMARY:In the Groves: a Summer Solstice Journey
DESCRIPTION:Ancient legends of trees with music and songs from culture
 s around the world accompany a twilight stroll through the beautiful g
 roves of Boston’s Arnold Arboretum. This performance event, created 
 by award-winning storyteller Diane Edgecomb and Celtic harper Margot C
 hamberlain, was specifically designed for the tree sanctuary and takes
  us to some of its loveliest spots. Stories and music are drawn from t
 he rich cultural traditions of Japan, Wales, England, Australia, Russi
 a and Native America. The evening culminates with the haunting Czech l
 egend “The Wild Woman of the Birch Grove” told among the birches o
 f Bussey Hill at sunset.\n\nFriday, June 19th and Saturday, June 20th,
  2015\nTime: 6:30 pm – 8:30 pm\nPerformances limited to an audience 
 of 30.\nTickets: $20 through June 10th and $25 after.\nBuy Tickets At:
  http://bitly.com/celebratesummer15\n\nFor more information visit http
 ://neighborsforneighbors.org/events/in-the-groves-a-summer-solstice-jo
 urney-2
DTSTART:20150619T223000Z
DTEND:20150621T003000Z
CATEGORIES:storytelling, performance
LOCATION:The Arnold Arboretum of Harvard University
WEBSITE:http://www.arboretum.harvard.edu/
URL:http://www.arboretum.harvard.edu/
CONTACT:617.524.1718
ORGANIZER;CN="Diane Edgecomb":http://neighborsforneighbors.org/profile
 /DianeEdgecomb
ATTACH;FMTTYPE="image/jpeg":http://storage.ning.com/topology/rest/1.0/
 file/get/2245142395?profile=original
ATTENDEE;ROLE=REQ-PARTICIPANT;PARTSTAT=ACCEPTED;RSVP=TRUE;CN="Diane Ed
 gecomb":http://neighborsforneighbors.org/profile/DianeEdgecomb
END:VEVENT
END:VCALENDAR
