BEGIN:VCALENDAR
PRODID:NingEventWidget-v1
VERSION:2.0
METHOD:PUBLISH
BEGIN:VEVENT
UID:1171189:Event:119971
DTSTAMP:20260421T201303Z
SUMMARY:In the Groves: A Summer Solstice Journey
DESCRIPTION:This enchanting evening of tree myths from around the worl
 d was designed specifically for Boston’s favorite tree sanctuary, th
 e Arnold Arboretum. The Summer  journey starts at the Hunnewell Visit
 or’s Building and continues along tree-lined paths with story and mu
 sic accompanying the way. As twilight descends, the audience visits ch
 erry, evergreen, ash and birch groves, celebrating nature with tree le
 gends, songs and music from many lands. Pieces are drawn from the rich
  cultural traditions of Japan, Wales, England, Australia, Russia and N
 ative America. The evening culminates with the haunting Czech legend T
 he Wild Woman of the Birch Grove told among the birches of Bussey Hill
  at sunset. This annual event is appropriate for adults and for older 
 children. Bring a cushion to sit on if you wish. The journey will be a
 pproximately two miles on and off trails. The performance takes place 
 rain or shine. In the event of rain, it will be held indoors and addit
 ional Solstice legends will be added.\n\nFor more information visit ht
 tp://neighborsforneighbors.org/events/in-the-groves-a-summer-solstice-
 journey-3
DTSTART:20170616T223000Z
DTEND:20170618T003000Z
CATEGORIES:storytelling, and, music, event, in, the, landscape
LOCATION:Arnold Arboretum
WEBSITE:http://bit.ly/2snpn1n
URL:http://bit.ly/2snpn1n
CONTACT:617.524.1718
ORGANIZER;CN="Diane Edgecomb":http://neighborsforneighbors.org/profile
 /DianeEdgecomb
ATTACH;FMTTYPE="image/jpeg":http://storage.ning.com/topology/rest/1.0/
 file/get/2245142395?profile=original
ATTENDEE;ROLE=REQ-PARTICIPANT;PARTSTAT=ACCEPTED;RSVP=TRUE;CN="Diane Ed
 gecomb":http://neighborsforneighbors.org/profile/DianeEdgecomb
END:VEVENT
END:VCALENDAR
