BEGIN:VCALENDAR
PRODID:NingEventWidget-v1
VERSION:2.0
METHOD:PUBLISH
BEGIN:VEVENT
UID:1171189:Event:122997
DTSTAMP:20260421T190040Z
SUMMARY:In The Groves: A Summer Solstice Journey
DESCRIPTION:This enchanting evening of tree myths from around the worl
 d was designed specifically for Boston’s favorite tree sanctuary, th
 e Arnold Arboretum. Created by Oracle award-winning storyteller Diane 
 Edgecomb and Celtic harper Margot Chamberlain, this Summer Solstice jo
 urney takes the audience for a twilight journey along tree-lined paths
  with story and music accompanying the way. The audience visits cherry
 , evergreen, ash and birch groves, celebrating nature with tree legend
 s, songs and music from many lands. Pieces are drawn from the rich cul
 tural traditions of Japan, Wales, England, Australia, Russia and Nativ
 e America culminating with the haunting Czech legend “The Wild Woman
  of the Birch Grove” told among the birches of Bussey Hill at sunset
 . This annual event is appropriate for adults and for older children. 
 Bring a cushion to sit on if you wish. The journey will be approximate
 ly two miles on and off trails. The performance takes place rain or sh
 ine. In the event of rain the performance will be held indoors.\n\nDia
 ne and Margot have been featured on NPR and at storytelling festivals,
  coffeehouses and theaters. Diane is known for her unique style of sto
 rytelling, where she embodies the various characters and scenes in a t
 ale, bringing each moment alive. For this she has won the first and on
 ly National Oracle Award for Storytelling Excellence in the Northeast 
 as well as five Storytelling World Awards. Margot Chamberlain has perf
 ormed with numerous early music groups including the Revels. Her versa
 tile approach to harp and song brings an underlying poetic weave to su
 pport each tale.\n\nFriday, June 22 and Saturday June 23, 6:30-8:30 pm
 . Tickets are $20 through June 15th and $25 after.\n\nPerformances lim
 ited to an audience of 30.\nTicket URL: https://my.arboretum.harvard.e
 du/Info.aspx?DayPlanner=1024&DayPlannerDate=6/22/2018\n \nEvent Detai
 l URL: http://livingmyth.com/event/in-the-groves-summer-solstice/\n \
 n\nFor more information visit http://neighborsforneighbors.org/events/
 in-the-groves-a-summer-solstice-journey-4
DTSTART:20180622T223000Z
DTEND:20180624T003000Z
CATEGORIES:folk, music, storytelling, theatre, nature
LOCATION:The Arnold Arboretum
WEBSITE:http://livingmyth.com/event/in-the-groves-summer-solstice/
URL:http://livingmyth.com/event/in-the-groves-summer-solstice/
CONTACT:617-522-4335
ORGANIZER:Living Myth Events
ATTACH;FMTTYPE="image/jpeg":http://storage.ning.com/topology/rest/1.0/
 file/get/2245142395?profile=original
ATTENDEE;ROLE=REQ-PARTICIPANT;PARTSTAT=ACCEPTED;RSVP=TRUE;CN="Diane Ed
 gecomb":http://neighborsforneighbors.org/profile/DianeEdgecomb
END:VEVENT
END:VCALENDAR
