BEGIN:VCALENDAR
PRODID:NingEventWidget-v1
VERSION:2.0
METHOD:PUBLISH
BEGIN:VEVENT
UID:1171189:Event:117867
DTSTAMP:20260421T222810Z
SUMMARY:In the Groves
DESCRIPTION:Join us for an enchanting evening of Tree Myths, Songs and
  Summer Solstice Legends. Renowned Storyteller and Singer Diane Edgeco
 mb and Celtic Harper Margot Chamberlain spin tales of the human connec
 tion with trees and the deep meaning we have assigned to them through 
 the ages. This unique performance, designed specifically for the Arnol
 d Arboretum, travels through the Arboretum with story and music. Each 
 story is told under a different tree or among a unique collection of A
 rboretum plants. The program begins under a grand Cedar of Lebanon, mo
 ves into the rosaceous collection, to the oaks of Bussey Hill, then on
 ward to Hemlock Hill, culminating with the haunting Czech legend “Th
 e Wild Woman of the Birch Grove” told amid the birches at sunset. Ap
 propriate for adults and for children twelve years and above. Bring a 
 cushion to sit on if you wish. Registrants will walk approximately two
  miles on and off trails on uneven terrain. The performance takes plac
 e rain or shine. In the event of rain, it will be held in the Hunnewel
 l Building lecture hall. Register early for this popular event. Recomm
 ended for ages 10 and up.\n\nFor more information visit http://neighbo
 rsforneighbors.org/events/in-the
DTSTART:20160618T223000Z
DTEND:20160619T003000Z
CATEGORIES:storytelling, concert
LOCATION:Arnold Arboretum, Hunnewell Building
WEBSITE:http://www.arboretum.harvard.edu/groves-summer-solstice-journe
 y/
URL:http://www.arboretum.harvard.edu/groves-summer-solstice-journey/
CONTACT:617.524.1718
ORGANIZER;CN="Diane Edgecomb":http://neighborsforneighbors.org/profile
 /DianeEdgecomb
ATTACH;FMTTYPE="image/jpeg":http://storage.ning.com/topology/rest/1.0/
 file/get/2245142912?profile=original
ATTENDEE;ROLE=REQ-PARTICIPANT;PARTSTAT=ACCEPTED;RSVP=TRUE;CN="Diane Ed
 gecomb":http://neighborsforneighbors.org/profile/DianeEdgecomb
END:VEVENT
END:VCALENDAR
