BEGIN:VCALENDAR
PRODID:NingEventWidget-v1
VERSION:2.0
METHOD:PUBLISH
BEGIN:VEVENT
UID:1171189:Event:39485
DTSTAMP:20260421T165639Z
SUMMARY:INTERACTIONS @ the hallway gallery
DESCRIPTION:10 artists of RIFRAKT Artist Collective will be showcasing
  their work at the hallway gallery for the month of April. Various spe
 cial events throughout the month are scheduled...OPENING RECEPTION THI
 S THURSDAY--APRIL 1ST--6-10pm with CHRIS ALLEN'S Central Artery Projec
 t performing live jazz at 9pm. Don't miss it!!\n\nFor more information
  visit http://neighborsforneighbors.org/events/interactions-the-hallwa
 y
DTSTART:20100401T220000Z
DTEND:20100402T020000Z
CATEGORIES:art, opening
LOCATION:the hallway gallery
WEBSITE:http://www.thehallwayjp.com
URL:http://www.thehallwayjp.com
CONTACT:617-818-5996
ORGANIZER;CN="Brent Refsland":http://neighborsforneighbors.org/profile
 /BrentRefsland
ATTACH;FMTTYPE="image/jpeg":http://storage.ning.com/topology/rest/1.0/
 file/get/2245126823?profile=original
ATTENDEE;ROLE=REQ-PARTICIPANT;PARTSTAT=ACCEPTED;RSVP=TRUE;CN="Steve Ga
 rfield":http://neighborsforneighbors.org/profile/SteveGarfield
ATTENDEE;ROLE=REQ-PARTICIPANT;PARTSTAT=ACCEPTED;RSVP=TRUE;CN="Brent Re
 fsland":http://neighborsforneighbors.org/profile/BrentRefsland
END:VEVENT
END:VCALENDAR
