BEGIN:VCALENDAR
PRODID:NingEventWidget-v1
VERSION:2.0
METHOD:PUBLISH
BEGIN:VEVENT
UID:1171189:Event:39589
DTSTAMP:20260421T233840Z
SUMMARY:Interactive Theater Performance Workshop
DESCRIPTION:Learn theater performance skills in this one-time workshop
  for ages 9 to adult. Teen interns from the Citi Performing Arts Cente
 r will help participants create and perform a short piece.\n\nFor more
  information visit http://neighborsforneighbors.org/events/interactive
 -theater
DTSTART:20100422T150000Z
DTEND:20100422T160000Z
CATEGORIES:theater, workshop
LOCATION:Connolly Branch Library
WEBSITE:http://www.bpl.org/branches/connolly.htm
URL:http://www.bpl.org/branches/connolly.htm
CONTACT:617-522-1960
ORGANIZER;CN="Connolly Branch Library":http://neighborsforneighbors.or
 g/profile/ConnollyBranchLibrary
ATTACH;FMTTYPE="image/jpeg":http://storage.ning.com/topology/rest/1.0/
 file/get/2186464672?profile=original
ATTENDEE;ROLE=REQ-PARTICIPANT;PARTSTAT=ACCEPTED;RSVP=TRUE;CN="Connolly
  Branch Library":http://neighborsforneighbors.org/profile/ConnollyBran
 chLibrary
END:VEVENT
END:VCALENDAR
