BEGIN:VCALENDAR
PRODID:NingEventWidget-v1
VERSION:2.0
METHOD:PUBLISH
BEGIN:VEVENT
UID:1171189:Event:81044
DTSTAMP:20260421T221018Z
SUMMARY:International Karma Yoga Day celebration
DESCRIPTION:United States, Boston - Event - International Karma Yoga D
 ay celebration. Picnic, by donation yoga, music, fun. Teachers: Anthe 
 Kelly and others. Project - Community building and fundraising for Int
 ernationalPeaceCamp.org - Location - At the Jamaica Pond 9am-6pm.\n\nF
 or more information visit http://neighborsforneighbors.org/events/inte
 rnational-karma-yoga-day-celebration
DTSTART:20110911T130000Z
DTEND:20110911T210000Z
CATEGORIES:peace
LOCATION:The Pond
WEBSITE:http://www.international-karma-yoga-day.org/Welcome.html
URL:http://www.international-karma-yoga-day.org/Welcome.html
CONTACT:
ORGANIZER:International Peace Camp
ATTACH;FMTTYPE="image/jpeg":
ATTENDEE;ROLE=REQ-PARTICIPANT;PARTSTAT=ACCEPTED;RSVP=TRUE;CN="Aria Lit
 tlhous":http://neighborsforneighbors.org/profile/AriaLittlhous
END:VEVENT
END:VCALENDAR
