BEGIN:VCALENDAR
PRODID:NingEventWidget-v1
VERSION:2.0
METHOD:PUBLISH
BEGIN:VEVENT
UID:1171189:Event:81327
DTSTAMP:20260421T214755Z
SUMMARY:Introduction to Resilience Circles - Jamaica Plain
DESCRIPTION:Jamaica Plain Introduction to Resilience Circles\nJoin us
  to learn about Resilience Circles, an approach to strengthening commu
 nity during tough times.\nResilience Circles are Smalls Group to…\n
 Get to Know Your Neighbors…Help Each Other Through “Mutual Aid
 …Work for a fair economy that serves everyone…Have Fun!\nFirst Ba
 ptist Church in Jamaica Plain633 Centre St.Jamaica Plain, MA 02130Wedn
 esday October 5Potluck 6pm, Presentation 7pm\nCo-sponsored by the Jama
 ica Plain Forum\nThe “Great Recession” has reminded us of our vuln
 erabilities. We’re facing debt, foreclosure, unemployment, and isola
 tion. In response, people are forming small “Resilience Circles” t
 o explore a new kind of security – one based in mutual aid and commu
 nity support.\n \n\nFor more information visit http://neighborsfornei
 ghbors.org/events/introduction-to-resilience-circles-jamaica-plain
DTSTART:20111005T220000Z
DTEND:20111006T010000Z
CATEGORIES:informational, meeting
LOCATION:First Baptist Church in Jamaica Plain
WEBSITE:http://localcircles.org/
URL:http://localcircles.org/
CONTACT:617.477.8630 x307
ORGANIZER;CN="Liz W.":http://neighborsforneighbors.org/profile/LizW
ATTACH;FMTTYPE="image/jpeg":http://storage.ning.com/topology/rest/1.0/
 file/get/2245135180?profile=original
ATTENDEE;ROLE=REQ-PARTICIPANT;PARTSTAT=ACCEPTED;RSVP=TRUE;CN="Liz W.":
 http://neighborsforneighbors.org/profile/LizW
END:VEVENT
END:VCALENDAR
