BEGIN:VCALENDAR
PRODID:NingEventWidget-v1
VERSION:2.0
METHOD:PUBLISH
BEGIN:VEVENT
UID:1171189:Event:64931
DTSTAMP:20260421T230507Z
SUMMARY:Is Neighbors for Neighbors meeting your needs?
DESCRIPTION:You know what you should be doing? You should be filling o
 ut the NFN network questionnaire, you know you want to because the clo
 se date is tonight at midnight. It will only take you 10 minutes. Fo
 llow the link below.\n https://www.surveymonkey.com/s/NFNetworkQs\n\n
 For more information visit http://neighborsforneighbors.org/events/is-
 neighbors-for-neighbors
DTSTART:20110205T050000Z
DTEND:20110206T045900Z
CATEGORIES:"online survey"
LOCATION:your computer screen
WEBSITE:https://www.surveymonkey.com/s/NFNetworkQs
URL:https://www.surveymonkey.com/s/NFNetworkQs
CONTACT:
ORGANIZER;CN="Anna Sandoval":http://neighborsforneighbors.org/profile/
 AnnaS
ATTACH;FMTTYPE="image/jpeg":
ATTENDEE;ROLE=REQ-PARTICIPANT;PARTSTAT=ACCEPTED;RSVP=TRUE;CN="Anna San
 doval":http://neighborsforneighbors.org/profile/AnnaS
END:VEVENT
END:VCALENDAR
