BEGIN:VCALENDAR
PRODID:NingEventWidget-v1
VERSION:2.0
METHOD:PUBLISH
BEGIN:VEVENT
UID:1171189:Event:67055
DTSTAMP:20260421T184307Z
SUMMARY:Israel and Palestine: Is Peace and Justice Possible? - A Repor
 t From the Ground-
DESCRIPTION:Alice Rothchild and Alan Meyers are Boston-area doctors wh
 o have led multiple delegations to Israel and Palestine. As members of
  The Health and Human Rights Project of American Jews for a Just Peace
  (AJJP), they have worked with NGOs in clinics, hospitals and refugee 
 camps. They will share stories and analysis from their most recent vis
 it in January 2011 that included interviews with both Jewish Israelis 
 and Palestinian activists in Israel and the West Bank.\nThe Forum will
  focus on issues of civil rights, water, health care, and the impact o
 f occupation on both the occupiers and the occupied. Alice and Alan wi
 ll describe the current state of checkpoints, the separation wall, the
  expanding Jewish settlements in East Jerusalem and the West Bank as w
 ell as the rightward swing of Israeli politics.\nThey will also discus
 s the growing boycott, divestment and sanction movement as a nonviolen
 t and creative option to move the possibilities for peace forward on a
  grass roots level in the face of years of stalled peace processes.\nW
 ebsite: http://www.jamaicaplainforum.org\n\nFor more information visi
 t http://neighborsforneighbors.org/events/israel-and-palestine-is-peac
 e
DTSTART:20110428T230000Z
DTEND:20110429T010000Z
CATEGORIES:discussion
LOCATION:First Church in Jamaica Plain UU, 6 Eliot Street (Across from
  the monument)
WEBSITE:
URL:
CONTACT:
ORGANIZER;CN="Liz W.":http://neighborsforneighbors.org/profile/LizW
ATTACH;FMTTYPE="image/jpeg":
ATTENDEE;ROLE=REQ-PARTICIPANT;PARTSTAT=ACCEPTED;RSVP=TRUE;CN=Loay:http
 ://neighborsforneighbors.org/profile/Loay
ATTENDEE;ROLE=REQ-PARTICIPANT;PARTSTAT=ACCEPTED;RSVP=TRUE;CN="Liz W.":
 http://neighborsforneighbors.org/profile/LizW
END:VEVENT
END:VCALENDAR
