BEGIN:VCALENDAR
PRODID:NingEventWidget-v1
VERSION:2.0
METHOD:PUBLISH
BEGIN:VEVENT
UID:1171189:Event:92298
DTSTAMP:20260421T232137Z
SUMMARY:J-WAY STRING QUARTET: on November 18, 2012
DESCRIPTION:J-Way String Quartet --an innovative quartet of Jamaica Pl
 ain residents Catherine Bent (cello), Helen Sherrah-Davies (5-string v
 iolin), Rika Ikeda (violin), and Tomoko Iwamoto (violin) will offer a 
 program featuring original pieces by J-Way and other modern classical 
 and Brazilian selections, on Sunday, November 18, 2012, at 3:00 p.m. a
 t the historic Loring-Greenough House, 12 South Street, Jamaica Plain.
 Meet the artists at afternoon tea following the program.The Sunday Aft
 ernoon at the ‘Greenough House series recreates the atmosphere of 18
 th and 19th century “musical afternoons” in the 1760 Loring-Greeno
 ugh House, twice monthly, October to May. Tickets are available at the
  door: donation $15 ($10 seniors, students and JPTC members). Space is
  limited; reservations are suggested—call 617-524-3158 or email lgho
 useconcerts@aim.com.J-Way was founded by associate faculty and graduat
 es of Berklee College of Music and New England Conservatory with a com
 mon interest in jazz and creative music. Four accomplished string play
 ers with training in the European tradition and the music of various p
 arts of world bring their original compositions and arrangements, musi
 c from Argentina and Brazil and other music with African roots. All of
  its members being emigrants from other continents, J-Way appreciates 
 the paths that music travels, the deep vibrations of the old world wit
 hin the new, and the special weight of time and place when music is pe
 rformed far from home.Built in 1760, the Loring-Greenough House, a loc
 al landmark listed on the Massachusetts and National Registers of Hist
 oric Places, is located at 12 South Street (at the Civil War Monument)
  in Jamaica Plain, MA. It is owned and managed by the non-profit Jamai
 ca Plain Tuesday Club, Inc. as a historic house museum and site for ar
 t and music presentations. The Loring-Greenough House is wheelchair ac
 cessible. For more information on the Loring-Greenough House, see www.
 loring-greenough.org.For reservations or directions, call (617)524-315
 8, or email  lghouseconcerts@aim.com.  \n\nFor more information visi
 t http://neighborsforneighbors.org/events/j-way-string-quartet-on-nove
 mber-18-2012
DTSTART:20121118T200000Z
DTEND:20121118T223000Z
CATEGORIES:parlor, concert, and, tea
LOCATION:Loring-Greenough House,
WEBSITE:http://www.Loring-Greenough.org
URL:http://www.Loring-Greenough.org
CONTACT:617-524-3158
ORGANIZER;CN="Loring-Greenough House Concerts":http://neighborsforneig
 hbors.org/profile/LoringGreenoughHouseConserts
ATTACH;FMTTYPE="image/jpeg":http://storage.ning.com/topology/rest/1.0/
 file/get/2245131507?profile=original
ATTENDEE;ROLE=REQ-PARTICIPANT;PARTSTAT=ACCEPTED;RSVP=TRUE;CN="Loring-G
 reenough House Concerts":http://neighborsforneighbors.org/profile/Lori
 ngGreenoughHouseConserts
END:VEVENT
END:VCALENDAR
