BEGIN:VCALENDAR
PRODID:NingEventWidget-v1
VERSION:2.0
METHOD:PUBLISH
BEGIN:VEVENT
UID:1171189:Event:83849
DTSTAMP:20260422T024721Z
SUMMARY:J-WAY STRING QUARTET: on November 20, 2011
DESCRIPTION: J-Way, a string quartet of Jamaica Plain residents Cather
 ine Bent (cello), Helen Sherrah-Davies (5-string violin), Tomoko Iwamo
 to (violin), and Rika Ikeda (violin) will offer a program featuring tr
 aditional Brazilian music, original pieces by Tomoko Iwamoto and other
  modern jazz selections.\n on Sunday, November 20, 2011, at 3:00 p.m.
  at the historic Loring-Greenough House, 12 South Street, Jamaica Plai
 n.\n\nAfternoon tea follows the program\n\nThe Sunday Afternoon at the
  ‘Greenough House series recreates the atmosphere of 18th and 19th c
 entury “musical afternoons” in the 1760 Loring-Greenough House, tw
 ice monthly, October to May. Tickets are available at the door: donati
 on $15 ($10 seniors, students and JPTC members). Space is limited; res
 ervations are suggested—call 617-524-3158 or email lghouseconcerts@a
 im.com.\n\nJ-Way was founded by graduates of Berklee and New England C
 onservatory, with a common interest in jazz and creative music. Four a
 ccomplished string players with training in the European tradition and
  the music of various parts of world bring you their original composit
 ions and arrangements of American Jazz, as well as music from Argentin
 a, Brazil and the Caribbean. All of its members being emigrants from o
 ther continents, J-Way appreciates the paths that music travels, the d
 eep vibrations of the old world within the new, and the special weight
  of time and place when music is performed far from its home. \n\nBuil
 t in 1760, the Loring-Greenough House, a local landmark listed on the 
 Massachusetts and National Registers of Historic Places, is located at
  12 South Street (at the Civil War Monument) in Jamaica Plain, MA. It 
 is owned and managed by the non-profit Jamaica Plain Tuesday Club, Inc
 . as a historic house museum and site for art and music presentations.
  The Loring-Greenough House is wheelchair accessible. For more informa
 tion on the Loring-Greenough House, see www.loring-greenough.org.\n\nF
 or reservations or directions, call (617)524-3158, or email  lghousec
 oncerts@aim.com.\n\nFor more information visit http://neighborsforneig
 hbors.org/events/j-way-string-quartet-on-november-20-2011
DTSTART:20111120T200000Z
DTEND:20111121T000000Z
CATEGORIES:parlor, concert, and, tea
LOCATION:Loring-Greenough House,
WEBSITE:http://www.Loring-Greenough.org
URL:http://www.Loring-Greenough.org
CONTACT:617-524-3158
ORGANIZER;CN="Loring-Greenough House Concerts":http://neighborsforneig
 hbors.org/profile/LoringGreenoughHouseConserts
ATTACH;FMTTYPE="image/jpeg":http://storage.ning.com/topology/rest/1.0/
 file/get/2245131507?profile=original
ATTENDEE;ROLE=REQ-PARTICIPANT;PARTSTAT=ACCEPTED;RSVP=TRUE;CN="Loring-G
 reenough House Concerts":http://neighborsforneighbors.org/profile/Lori
 ngGreenoughHouseConserts
END:VEVENT
END:VCALENDAR
