BEGIN:VCALENDAR
PRODID:NingEventWidget-v1
VERSION:2.0
METHOD:PUBLISH
BEGIN:VEVENT
UID:1171189:Event:58881
DTSTAMP:20260421T185557Z
SUMMARY:Jackson Square Playground Project--Children’s Hospital
DESCRIPTION:Children’s Hospital and DCR will present plans for a pla
 yground in Jackson Square. The playground is to be located near the ba
 sketball and tennis courts, and is for school age children.\n\nFor mor
 e information visit http://neighborsforneighbors.org/events/jackson-sq
 uare-playground
DTSTART:20101206T230000Z
DTEND:20101207T003000Z
CATEGORIES:community, meeting
LOCATION:DCR’s Southwest Corridor HQ
WEBSITE:http://For Info on Children's Hospital's playground project (n
 ot location of meeting)  <www.childrenshospital.org/playground>
URL:http://For Info on Children's Hospital's playground project (not l
 ocation of meeting)  <www.childrenshospital.org/playground>
CONTACT:617-727-0057
ORGANIZER:DCR
ATTACH;FMTTYPE="image/jpeg":
ATTENDEE;ROLE=REQ-PARTICIPANT;PARTSTAT=ACCEPTED;RSVP=TRUE;CN="Janet Hu
 nkel":http://neighborsforneighbors.org/profile/JanetHunkel
END:VEVENT
END:VCALENDAR
