BEGIN:VCALENDAR
PRODID:NingEventWidget-v1
VERSION:2.0
METHOD:PUBLISH
BEGIN:VEVENT
UID:1171189:Event:60947
DTSTAMP:20260421T234004Z
SUMMARY:Jah-N-I Roots & Reggae Band
DESCRIPTION:JAH-N-I roots band pronounce (JAH- in -I) has been strikin
 g the air waves with music of mystical over standing of the time that 
 we are living in. Based in Dorchester Ma. Often seen as a roots band o
 ut of the hills like hermits (Ancient Rasta men/womb man).  Delivering
  a message of truth's of righteousness. Pointing out the reality of li
 fe and its reasons. The band was formed in 2002 by Barriffe Mackenzie 
 an inspired Rasta now an initiate of the Rasta livity.\n\nFor more inf
 ormation visit http://neighborsforneighbors.org/events/jahni-roots-reg
 gae-band
DTSTART:20110113T020000Z
DTEND:20110113T050000Z
CATEGORIES:concert
LOCATION:Milky Way
WEBSITE:http://www.milkywayjp.com
URL:http://www.milkywayjp.com
CONTACT:617-524-3740
ORGANIZER:Justin Emile
ATTACH;FMTTYPE="image/jpeg":http://storage.ning.com/topology/rest/1.0/
 file/get/2245133805?profile=original
ATTENDEE;ROLE=REQ-PARTICIPANT;PARTSTAT=ACCEPTED;RSVP=TRUE;CN="Carol Do
 wns":http://neighborsforneighbors.org/profile/CarolDowns
END:VEVENT
END:VCALENDAR
