BEGIN:VCALENDAR
PRODID:NingEventWidget-v1
VERSION:2.0
METHOD:PUBLISH
BEGIN:VEVENT
UID:1171189:Event:59723
DTSTAMP:20260421T171802Z
SUMMARY:Jamaica Plain DIY Craft Festival!
DESCRIPTION:THIS SUNDAY!\n \nWares made and sold by local vendors, St
 ilt Walking, make your own crafts, patches, vegan treats.\n \nNo cost
  for Admission!\n \nEverything from juggling balls, to duct tape wall
 ets, paintings, home-made JP soap, letter print, felt animals, fabric 
 monsters, punk rock bracelets - all local and all DIY!\n \nCome Celeb
 rate Your Community! @ Spontaneous Celebrations!\n\nFor more informati
 on visit http://neighborsforneighbors.org/events/jamaica-plain-diy-cra
 ft
DTSTART:20101219T160000Z
DTEND:20101219T210000Z
CATEGORIES:craft, fair-
LOCATION:Spontaneous Celebrations@ Jamaica Plain
WEBSITE:
URL:
CONTACT:
ORGANIZER;CN=Danielle:http://neighborsforneighbors.org/profile/Daniell
 eDiers
ATTACH;FMTTYPE="image/jpeg":
ATTENDEE;ROLE=REQ-PARTICIPANT;PARTSTAT=ACCEPTED;RSVP=TRUE;CN=Lauren:ht
 tp://neighborsforneighbors.org/profile/Lauren72
ATTENDEE;ROLE=REQ-PARTICIPANT;PARTSTAT=ACCEPTED;RSVP=TRUE;CN=Danielle:
 http://neighborsforneighbors.org/profile/DanielleDiers
ATTENDEE;ROLE=REQ-PARTICIPANT;PARTSTAT=TENTATIVE;RSVP=TRUE;CN="Natalia
  Chilcote":http://neighborsforneighbors.org/profile/NataliaChilcote
END:VEVENT
END:VCALENDAR
