BEGIN:VCALENDAR
PRODID:NingEventWidget-v1
VERSION:2.0
METHOD:PUBLISH
BEGIN:VEVENT
UID:1171189:Event:83720
DTSTAMP:20260421T184351Z
SUMMARY:Jamaica Plain Forum: Celebrating the World Fellowship
DESCRIPTION:The World Fellowship Center is a unique, affordable, progr
 essive oasis on 455 acres in the splendor of New Hampshire’s White M
 ountains. Founded in 1941 as a retreat center nestled in the White Mou
 ntains of N.H., this “camp with a social conscience” has a rich hi
 story of promoting peace while considering issues of justice, freedom 
 and peace as our society shapes itself for future generations.Since 19
 41, The World Fellowship Center has provided opportunities for people 
 of different backgrounds to meet and discuss the issues of the day. Th
 e Center is secular, not-for-profit, multicultural, and inclusive. Our
  commitment to peace, social justice and the environment is at the cor
 e of our mission. The power of World Fellowship is the power to educat
 e and then inspire, as people learn from each other and then go forth 
 to make a better world.World Fellowship is an ideal destination for in
 dividuals, couples, families and groups for a weekend, a week, or long
 er. Have a family reunion or peace group retreat. Take a family vacati
 on or have your wedding here. Year after year, new guests and families
  that have been coming for decades, make World Fellowship their specia
 l home away from home.Join us as we celebrate the 70th anniversary by 
 learning the history and impact of World Fellowship.\n\nFor more infor
 mation visit http://neighborsforneighbors.org/events/jamaica-plain-for
 um-celebrating-the-world-fellowship
DTSTART:20111028T230000Z
DTEND:20111029T010000Z
CATEGORIES:community, forum
LOCATION:First Church UU Jamaica Plain
WEBSITE:
URL:
CONTACT:
ORGANIZER;CN="Liz W.":http://neighborsforneighbors.org/profile/LizW
ATTACH;FMTTYPE="image/jpeg":
ATTENDEE;ROLE=REQ-PARTICIPANT;PARTSTAT=ACCEPTED;RSVP=TRUE;CN="Liz W.":
 http://neighborsforneighbors.org/profile/LizW
END:VEVENT
END:VCALENDAR
