BEGIN:VCALENDAR
PRODID:NingEventWidget-v1
VERSION:2.0
METHOD:PUBLISH
BEGIN:VEVENT
UID:1171189:Event:84946
DTSTAMP:20260421T172759Z
SUMMARY:Jamaica Plain GOP monthly meeting
DESCRIPTION:The Jamaica Plain Republican Association--that is wards 10
 , 11, 19--will have their monthly meeting at Doyle's Pub on Washington
  Street at 8:00 PM on Tuesday November 1.\n \n\nFor more information 
 visit http://neighborsforneighbors.org/events/jamaica-plain-gop-monthl
 y-meeting
DTSTART:20111102T000000Z
DTEND:20111102T020000Z
CATEGORIES:political, meeting
LOCATION:Doyle's Pub, 3484 Washington St. Jamaica Plain, Boston
WEBSITE:
URL:
CONTACT:617-524-5352
ORGANIZER;CN="Edward W Wagner":http://neighborsforneighbors.org/profil
 e/EdwardWWagner
ATTACH;FMTTYPE="image/jpeg":http://storage.ning.com/topology/rest/1.0/
 file/get/2245137226?profile=original
ATTENDEE;ROLE=REQ-PARTICIPANT;PARTSTAT=ACCEPTED;RSVP=TRUE;CN="Edward W
  Wagner":http://neighborsforneighbors.org/profile/EdwardWWagner
END:VEVENT
END:VCALENDAR
