BEGIN:VCALENDAR
PRODID:NingEventWidget-v1
VERSION:2.0
METHOD:PUBLISH
BEGIN:VEVENT
UID:1171189:Event:58671
DTSTAMP:20260421T202120Z
SUMMARY:Jamaica Plain Holiday Fair
DESCRIPTION:The annual JP Holiday Fair will be held on Saturday, Decem
 ber 4 from 11 AM to 5 PM at First Church in Jamaica Plain Unitarian Un
 iversalist, 6 Eliot Street. Over thirty vendors will display and sell 
 a wide variety of locally-made arts and crafts. Live music will be per
 formed and food will be available. Solve your holiday gift challenges 
 with something unique and beautiful! You will find what you hoped for 
 at the JP Holiday Fair!\n\nFor more information visit http://neighbors
 forneighbors.org/events/jamaica-plain-holiday-fair
DTSTART:20101204T160000Z
DTEND:20101204T220000Z
CATEGORIES:holiday, fair
LOCATION:First Church in Jamaica Plain at the Monument
WEBSITE:http://firstchurchjp.org/
URL:http://firstchurchjp.org/
CONTACT:(617) 524-5030
ORGANIZER;CN="Laurie Corkum":http://neighborsforneighbors.org/profile/
 LaurieCorkum
ATTACH;FMTTYPE="image/jpeg":
ATTENDEE;ROLE=REQ-PARTICIPANT;PARTSTAT=ACCEPTED;RSVP=TRUE;CN="Laurie C
 orkum":http://neighborsforneighbors.org/profile/LaurieCorkum
END:VEVENT
END:VCALENDAR
