BEGIN:VCALENDAR
PRODID:NingEventWidget-v1
VERSION:2.0
METHOD:PUBLISH
BEGIN:VEVENT
UID:1171189:Event:37741
DTSTAMP:20260421T163839Z
SUMMARY:JAMAICA PLAIN MEDITATION CLASS
DESCRIPTION:This meditation class will offer an place in the community
  to learn the basic skills of the ancient practice of mindful awarenes
 s through practice of sitting meditation and yoga.\nMax. 10 people.\n\
 nFor more information visit http://neighborsforneighbors.org/events/ja
 maica-plain-meditation-class
DTSTART:20100317T220000Z
DTEND:20100318T000000Z
CATEGORIES:class
LOCATION:JP CENTER
WEBSITE:http://www.facebook.com/ jamaica plain meditation class
URL:http://www.facebook.com/ jamaica plain meditation class
CONTACT:617-983-9698
ORGANIZER;CN="Juan C. Sosa":http://neighborsforneighbors.org/profile/J
 uanCSosa
ATTACH;FMTTYPE="image/jpeg":
ATTENDEE;ROLE=REQ-PARTICIPANT;PARTSTAT=ACCEPTED;RSVP=TRUE;CN="Juan C. 
 Sosa":http://neighborsforneighbors.org/profile/JuanCSosa
ATTENDEE;ROLE=REQ-PARTICIPANT;PARTSTAT=TENTATIVE;RSVP=TRUE;CN="Rebecca
  F (community manager)":http://neighborsforneighbors.org/profile/Rebec
 caFiarman
END:VEVENT
END:VCALENDAR
