BEGIN:VCALENDAR
PRODID:NingEventWidget-v1
VERSION:2.0
METHOD:PUBLISH
BEGIN:VEVENT
UID:1171189:Event:53663
DTSTAMP:20260421T233839Z
SUMMARY:Jamaica Plain Open Studios
DESCRIPTION:Jamaica Plain Open Studios is this weekend on Saturday and
  Sunday from 11am to 6pm!\n\nCome by the Cheverus Building to check ou
 t my artwork. I make moving digital paintings for flat screen and proj
 ection installation.\n\nThere will be a silent auction and a number of
  other fine artists.\n\nFor more information visit http://neighborsfor
 neighbors.org/events/jamaica-plain-open-studios-1
DTSTART:20100925T150000Z
DTEND:20100926T220000Z
CATEGORIES:art, exhibit
LOCATION:Cheverus Building
WEBSITE:http://www.jpopenstudios.com/modules/gallery_search/index.php?
 act=search&page=1&cat=0&lname=hermes
URL:http://www.jpopenstudios.com/modules/gallery_search/index.php?act=
 search&page=1&cat=0&lname=hermes
CONTACT:781-526-0738
ORGANIZER;CN="Dan Hermes":http://neighborsforneighbors.org/profile/Dan
 Hermes
ATTACH;FMTTYPE="image/jpeg":http://storage.ning.com/topology/rest/1.0/
 file/get/2245130618?profile=original
ATTENDEE;ROLE=REQ-PARTICIPANT;PARTSTAT=ACCEPTED;RSVP=TRUE;CN="Dan Herm
 es":http://neighborsforneighbors.org/profile/DanHermes
END:VEVENT
END:VCALENDAR
