BEGIN:VCALENDAR
PRODID:NingEventWidget-v1
VERSION:2.0
METHOD:PUBLISH
BEGIN:VEVENT
UID:1171189:Event:79649
DTSTAMP:20260421T181940Z
SUMMARY:Jamaica Plain Open Studios Kick-Off Breakfast - Hosted by Hyde
  Square Task Force
DESCRIPTION:Jamaica Plain Open Studios Kick-Off Breakfast!  Hosted by
  Hyde Square Task Force.9:30 - 11 a.m. | Saturday, September 24.  Pas
 tries from Canto 6 and Ula Cafe, fruit, Equal Exchange coffee.Youth li
 ve art performance at 10:30.HSTF Cheverus Building, behind Blessed Sac
 rament Church, 365 Centre StreetSuggested Donation: $10 ($5 for kids u
 nder 10)Open to everyone!(Rain or shine) Major Sponsor: An Anonymous D
 onorOther sponsors: Berklee College of Music, Canto 6, JPOS, MCC, Musi
 c & Youth, and Ula Cafe\n\nFor more information visit http://neighbors
 forneighbors.org/events/jamaica-plain-open-studios-kick-off-breakfast-
 hosted-by-hyde
DTSTART:20110924T133000Z
DTEND:20110924T150000Z
CATEGORIES:community, event
LOCATION:365 Centre Street - Behind Blessed Sacrament Church
WEBSITE:
URL:
CONTACT:617-524-8303
ORGANIZER:Hyde Square Task Force
ATTACH;FMTTYPE="image/jpeg":http://storage.ning.com/topology/rest/1.0/
 file/get/2186461268?profile=original
ATTENDEE;ROLE=REQ-PARTICIPANT;PARTSTAT=ACCEPTED;RSVP=TRUE;CN=Karen:htt
 p://neighborsforneighbors.org/profile/Karen
END:VEVENT
END:VCALENDAR
