BEGIN:VCALENDAR
PRODID:NingEventWidget-v1
VERSION:2.0
METHOD:PUBLISH
BEGIN:VEVENT
UID:1171189:Event:42274
DTSTAMP:20260421T212448Z
SUMMARY:Jamaica Plain Progressives Forum on Foreclosure
DESCRIPTION:Don't forget!\nJP Progressive Forum: Understanding the For
 eclosure Crisis\nWednesday, May 5th, 7pm\nDoyle's Restaurant, Jamaica 
 Plain\n\nWe'll be joined by State Senator Sonia Chang-Diaz, State Repr
 esentative Liz Malia, as well as experts from area non-profits (City L
 ife Urbana, Boston Tenants Coalition & ESAC) to talk to us about the f
 oreclosure crisis and bills before the Legislature right now.\n\nWe're
  hoping to get a good showing at this forum - please spread the word!\
 n\nwww.jpprogressives.com\n\nFor more information visit http://neighbo
 rsforneighbors.org/events/jamaica-plain-progressives
DTSTART:20100505T230000Z
DTEND:20100506T010000Z
CATEGORIES:educational, forum
LOCATION:Doyle's Restaurant
WEBSITE:http://maps.google.com/maps?um=1&ie=UTF-8&q=doyles+jamaica+pla
 in&fb=1&gl=us&hq=doyles+jamaica+plain&hnear=Boston,+MA&ei=xpLYS6zVJ4L9
 8Aa49JDGAQ&sa=X&oi=local_group&ct=image&resnum=4&ved=0CB8QtgMwAw
URL:http://maps.google.com/maps?um=1&ie=UTF-8&q=doyles+jamaica+plain&f
 b=1&gl=us&hq=doyles+jamaica+plain&hnear=Boston,+MA&ei=xpLYS6zVJ4L98Aa4
 9JDGAQ&sa=X&oi=local_group&ct=image&resnum=4&ved=0CB8QtgMwAw
CONTACT:
ORGANIZER:Jamaica Plain Progressives
ATTACH;FMTTYPE="image/jpeg":http://storage.ning.com/topology/rest/1.0/
 file/get/2159724936?profile=original
ATTENDEE;ROLE=REQ-PARTICIPANT;PARTSTAT=ACCEPTED;RSVP=TRUE;CN="Joseph P
 orcelli (Chief Neighbor)":http://neighborsforneighbors.org/profile/jos
 ephporcelli
ATTENDEE;ROLE=REQ-PARTICIPANT;PARTSTAT=ACCEPTED;RSVP=TRUE;CN="Mimi Kan
 tor":http://neighborsforneighbors.org/profile/MimiKantor
END:VEVENT
END:VCALENDAR
