BEGIN:VCALENDAR
PRODID:NingEventWidget-v1
VERSION:2.0
METHOD:PUBLISH
BEGIN:VEVENT
UID:1171189:Event:103968
DTSTAMP:20260421T203952Z
SUMMARY:Jamaica Plain Republican Sept Meeting
DESCRIPTION:The JP-GOP (wards 11,19 &10) will meet Tuesday evening at 
 Doyle's. The topic for discussion will be the controversial new regula
 tions for landlords in the City of Boston.\nSkip Schloming of the Smal
 l Property Owners Association (SPOA) will speak about the regs.\nCandi
 dates for Mayor and City Council will also speak.\n\n\nFor more inform
 ation visit http://neighborsforneighbors.org/events/jamaica-plain-repu
 blican-sept-meeting
DTSTART:20130918T000000Z
DTEND:20130918T023000Z
CATEGORIES:political
LOCATION:Doyle's Pub
WEBSITE:
URL:
CONTACT:617-525-5352
ORGANIZER;CN="Edward W Wagner":http://neighborsforneighbors.org/profil
 e/EdwardWWagner
ATTACH;FMTTYPE="image/jpeg":http://storage.ning.com/topology/rest/1.0/
 file/get/2245141791?profile=original
ATTENDEE;ROLE=REQ-PARTICIPANT;PARTSTAT=ACCEPTED;RSVP=TRUE;CN="Edward W
  Wagner":http://neighborsforneighbors.org/profile/EdwardWWagner
END:VEVENT
END:VCALENDAR
