BEGIN:VCALENDAR
PRODID:NingEventWidget-v1
VERSION:2.0
METHOD:PUBLISH
BEGIN:VEVENT
UID:1171189:Event:89456
DTSTAMP:20260421T185658Z
SUMMARY:Jamaica Plain’s Dodecagonal House
DESCRIPTION:Have you ever wondered about that unusual big blue house o
 n Cranston St. in Hyde Square? Who built it? When? And what were they 
 thinking? Meet the current owner, Bob Field, and hear all about his re
 search into the history of the house this Saturday, April 7th, at 10:0
 0 am at the Connolly Library. The event is free and it's sponsored by 
 the JP Historical Society.\n\nMore information (and a cool picture!) h
 ere: http://jamaicaplain.patch.com/events/jamaica-plains-dodecagonal-h
 ouse?my_event=yes\n\nFor more information visit http://neighborsfornei
 ghbors.org/events/jamaica-plain-s-dodecagonal-house
DTSTART:20120407T140000Z
DTEND:20120407T160000Z
CATEGORIES:jamaica, plain, history, architecture, cranston, street, hy
 de, square
LOCATION:Connolly Library
WEBSITE:
URL:
CONTACT:
ORGANIZER:Jamaica Plain Historical Society
ATTACH;FMTTYPE="image/jpeg":
ATTENDEE;ROLE=REQ-PARTICIPANT;PARTSTAT=ACCEPTED;RSVP=TRUE;CN="Gretchen
  Van Ness":http://neighborsforneighbors.org/profile/GretchenVanNess
END:VEVENT
END:VCALENDAR
