BEGIN:VCALENDAR
PRODID:NingEventWidget-v1
VERSION:2.0
METHOD:PUBLISH
BEGIN:VEVENT
UID:1171189:Event:26843
DTSTAMP:20260421T065120Z
SUMMARY:Jeremy Harman Presents String Quartet Showdown
DESCRIPTION:ALCHEMIST\n\n8/04/2009 10:00 PM at Jeremy Harman Presents 
 String Quartet Showdown\n435 South Huntington Avenue, JAMAICA PLAIN, M
 assachusetts 02130\nCost: Always Free\n\nViolinist Fung Chern Hwei and
  cellist Jeremy Harman, named themselves The Evil Twin, thanks to Mr. 
 Benjamin Devitt, their roommates t-shirt that says, \"Iâ€™m the Evil T
 win\", during HMIâ€™s 2006 season. This a new breed of band: Only 2 me
 mbers, playing electronic effects without any effects pedals or electr
 ic instruments (now how do you actually do that?), fusing every musica
 l style they know together. Watch out for them, NO MORE \"MR. NICE STR
 ING PLAYERS\"!! Newest info: Thanks to the generosity of Mr. Mark Alle
 nder from Bowed Radio, TET actually got to be podcasted in the Radioâ€
 ™s 22nd Episode, alongside with Mark Feldman and Virus String Quartet!
  Hereâ€™s the link Official Site: http://www.myspace.com/alchemistlou.
 ..\n\nFor more information visit http://neighborsforneighbors.org/even
 ts/jeremy-harman-presents-string
DTSTART:20090805T020000Z
DTEND:20090805T050000Z
CATEGORIES:clasical, string, quartets, in, a, bar, thats, right, mostl
 y, symphony, players
LOCATION:The Alchemist Lounge
WEBSITE:http://Alchemistlounge.com
URL:http://Alchemistlounge.com
CONTACT:617-477-5741
ORGANIZER;CN=Lyndon:http://neighborsforneighbors.org/profile/Lyndon
ATTACH;FMTTYPE="image/jpeg":http://storage.ning.com/topology/rest/1.0/
 file/get/2245118979?profile=original
ATTENDEE;ROLE=REQ-PARTICIPANT;PARTSTAT=ACCEPTED;RSVP=TRUE;CN=Lyndon:ht
 tp://neighborsforneighbors.org/profile/Lyndon
END:VEVENT
END:VCALENDAR
