BEGIN:VCALENDAR
PRODID:NingEventWidget-v1
VERSION:2.0
METHOD:PUBLISH
BEGIN:VEVENT
UID:1171189:Event:89769
DTSTAMP:20260421T231637Z
SUMMARY:Jeremy Quick & Maura Mendoza:  An afternoon of popular Jazz, L
 atin, and Pop music
DESCRIPTION:It almost a Cinco de Mayo concert–almost. On Sunday, May
  6, at 3:00 p.m. Jeremy Quick, guitar, and Maura Mendoza, vocals, will
  present a program of popular Jazz, Latin, and Pop music uniquely arra
 nged for the pairing of jazz guitar and soaring vocals, at the Loring-
 Greenough House, 12 South St, Jamaica Plain MA, as part of the Sunday 
 Afternoon at the ‘Greenough House parlor concert series.The Sunday A
 fternoon at the ‘Greenough House series recreates the atmosphere of 
 18th and 19th century “musical afternoons” in the 1760 Loring-Gree
 nough House, twice monthly, October to May. Tickets are available at t
 he door: donation $15 ($10 seniors, students and JPTC members). Space 
 is limited; reservations are suggested—call 617-524-3158 or email lg
 houseconcerts@aim.com. Meet the Jeremy and Maura at afternoon tea fol
 lowing the program.Jeremy Quick: As a Boston-based musician, Jeremy ha
 s performed nationally and internationally with a wide variety of musi
 cal projects. From Rock and Pop to Jazz and Groove, Jeremy has contrib
 uted his unique sound to many different groups. Recently he has been p
 erforming with a number of different duo combinations including Guitar
  & Drums, Guitar & Bass, and Guitar & Vocals. While he enjoys playing 
 guitar for a wide variety of bands, Jeremy also finds time to compose 
 and tour with his original project: The JQTrio. For more information, 
 visit www.Jeremyquick.com.Maura Mendoza: Maura started her musical tra
 ining when she was 14 years old in El Salvador and later in Panama. Sh
 e attended college in Havana, Cuba and Mexico City. Her background inc
 ludes musical theater, acting, and dance. After moving to the US and l
 aunching her career as a solo singer, Maura has played many local venu
 es exploring rock, jazz, acoustic, and pop music. She performs regular
 ly in the Boston area, blending her Latin roots in music with local ja
 zz musicians. For more information, visit www.MauraMendoza.com.Built i
 n 1760, the Loring-Greenough House, a local landmark listed on the Mas
 sachusetts and National Registers of Historic Places, is located at 12
  South Street (at the Civil War Monument) in Jamaica Plain, MA. It is 
 owned and managed by the non-profit Jamaica Plain Tuesday Club, Inc. a
 s a historic house museum and site for art and music presentations. Th
 e Loring-Greenough House is wheelchair accessible. For more informatio
 n on the Loring-Greenough House, see www.loring-greenough.org.For rese
 rvations or directions, call (617)524-3158, or email  lghouseconcerts
 @aim.com.This is the final event in this season. Please join us for ou
 r 14th season on October 21, 2012.    \n\nFor more information visi
 t http://neighborsforneighbors.org/events/jeremy-quick-maura-mendoza-a
 n-afternoon-of-popular-jazz-latin-and
DTSTART:20120506T190000Z
DTEND:20120506T230000Z
CATEGORIES:parlor, concert, and, tea
LOCATION:Loring-Greenough House,
WEBSITE:http://www.Loring-Greenough.org
URL:http://www.Loring-Greenough.org
CONTACT:617-524-3158
ORGANIZER;CN="Loring-Greenough House Concerts":http://neighborsforneig
 hbors.org/profile/LoringGreenoughHouseConserts
ATTACH;FMTTYPE="image/jpeg":http://storage.ning.com/topology/rest/1.0/
 file/get/2245140297?profile=original
ATTENDEE;ROLE=REQ-PARTICIPANT;PARTSTAT=ACCEPTED;RSVP=TRUE;CN="Loring-G
 reenough House Concerts":http://neighborsforneighbors.org/profile/Lori
 ngGreenoughHouseConserts
END:VEVENT
END:VCALENDAR
